BEGIN:VCALENDAR
VERSION:2.0
PRODID:-//Access Events//accessevents.org//
X-WR-CALDESC:Sensory-Friendly Film Screening: Happiest Place on Earth recu
 rring series on Access Events
X-WR-CALNAME:Access Events — Sensory-Friendly Film Screening: Happiest P
 lace on Earth
BEGIN:VEVENT
SUMMARY:Sensory-Friendly Film Screening: Happiest Place on Earth
DTSTART;TZID=America/Los_Angeles:20260424T110000
DTSTAMP:20260423T182316Z
UID:sensory-friendly-film-screening-happiest-place-on-earth-20260424-2@acc
 essevents.org
SEQUENCE:0
DESCRIPTION:Sensory-friendly screening of the featurette tracing Disneylan
 d's creation through Walt Disney's vision. Lights dimmed instead of off\, 
 volume lowered\, and closed captioning available on request. Guests are we
 lcome to move around freely.\n\nAccessibility: Wheelchair Accessible Venue
 \, Sensory-Friendly
LAST-MODIFIED:20260423T182316Z
LOCATION:The Walt Disney Family Museum\, 104 Montgomery Street\, The Presi
 dio\, San Francisco\, CA 94129
STATUS:CONFIRMED
URL:https://accessevents.org/events/sensory-friendly-film-screening-happie
 st-place-on-earth-20260424-2/
END:VEVENT
BEGIN:VEVENT
SUMMARY:Sensory-Friendly Film Screening: Happiest Place on Earth
DTSTART;TZID=America/Los_Angeles:20260425T110000
DTSTAMP:20260423T182316Z
UID:sensory-friendly-film-screening-happiest-place-on-earth-20260425@acces
 sevents.org
SEQUENCE:0
DESCRIPTION:Sensory-friendly screening of the featurette tracing Disneylan
 d's creation through Walt Disney's vision. Lights dimmed instead of off\, 
 volume lowered\, and closed captioning available on request. Guests are we
 lcome to move around freely.\n\nAccessibility: Wheelchair Accessible Venue
 \, Sensory-Friendly
LAST-MODIFIED:20260423T182316Z
LOCATION:The Walt Disney Family Museum\, 104 Montgomery Street\, The Presi
 dio\, San Francisco\, CA 94129
STATUS:CONFIRMED
URL:https://accessevents.org/events/sensory-friendly-film-screening-happie
 st-place-on-earth-20260425/
END:VEVENT
BEGIN:VEVENT
SUMMARY:Sensory-Friendly Film Screening: Happiest Place on Earth
DTSTART;TZID=America/Los_Angeles:20260426T110000
DTSTAMP:20260423T182316Z
UID:sensory-friendly-film-screening-happiest-place-on-earth-20260426@acces
 sevents.org
SEQUENCE:0
DESCRIPTION:Sensory-friendly screening of the featurette tracing Disneylan
 d's creation through Walt Disney's vision. Lights dimmed instead of off\, 
 volume lowered\, and closed captioning available on request. Guests are we
 lcome to move around freely.\n\nAccessibility: Wheelchair Accessible Venue
 \, Sensory-Friendly
LAST-MODIFIED:20260423T182316Z
LOCATION:The Walt Disney Family Museum\, 104 Montgomery Street\, The Presi
 dio\, San Francisco\, CA 94129
STATUS:CONFIRMED
URL:https://accessevents.org/events/sensory-friendly-film-screening-happie
 st-place-on-earth-20260426/
END:VEVENT
BEGIN:VEVENT
SUMMARY:Sensory-Friendly Film Screening: Happiest Place on Earth
DTSTART;TZID=America/Los_Angeles:20260430T110000
DTSTAMP:20260423T182316Z
UID:sensory-friendly-film-screening-happiest-place-on-earth-20260430@acces
 sevents.org
SEQUENCE:0
DESCRIPTION:Sensory-friendly screening of the featurette tracing Disneylan
 d's creation through Walt Disney's vision. Lights dimmed instead of off\, 
 volume lowered\, and closed captioning available on request. Guests are we
 lcome to move around freely.\n\nAccessibility: Wheelchair Accessible Venue
 \, Sensory-Friendly
LAST-MODIFIED:20260423T182316Z
LOCATION:The Walt Disney Family Museum\, 104 Montgomery Street\, The Presi
 dio\, San Francisco\, CA 94129
STATUS:CONFIRMED
URL:https://accessevents.org/events/sensory-friendly-film-screening-happie
 st-place-on-earth-20260430/
END:VEVENT
BEGIN:VEVENT
SUMMARY:Sensory-Friendly Film Screening: Happiest Place on Earth
DTSTART;TZID=America/Los_Angeles:20260501T110000
DTSTAMP:20260423T182316Z
UID:sensory-friendly-film-screening-happiest-place-on-earth-20260501@acces
 sevents.org
SEQUENCE:0
DESCRIPTION:Sensory-friendly screening of the featurette tracing Disneylan
 d's creation through Walt Disney's vision. Lights dimmed instead of off\, 
 volume lowered\, and closed captioning available on request. Guests are we
 lcome to move around freely.\n\nAccessibility: Wheelchair Accessible Venue
 \, Sensory-Friendly
LAST-MODIFIED:20260423T182316Z
LOCATION:The Walt Disney Family Museum\, 104 Montgomery Street\, The Presi
 dio\, San Francisco\, CA 94129
STATUS:CONFIRMED
URL:https://accessevents.org/events/sensory-friendly-film-screening-happie
 st-place-on-earth-20260501/
END:VEVENT
BEGIN:VEVENT
SUMMARY:Sensory-Friendly Film Screening: Happiest Place on Earth
DTSTART;TZID=America/Los_Angeles:20260502T110000
DTSTAMP:20260423T182316Z
UID:sensory-friendly-film-screening-happiest-place-on-earth-20260502@acces
 sevents.org
SEQUENCE:0
DESCRIPTION:Sensory-friendly screening of the featurette tracing Disneylan
 d's creation through Walt Disney's vision. Lights dimmed instead of off\, 
 volume lowered\, and closed captioning available on request. Guests are we
 lcome to move around freely.\n\nAccessibility: Wheelchair Accessible Venue
 \, Sensory-Friendly
LAST-MODIFIED:20260423T182316Z
LOCATION:The Walt Disney Family Museum\, 104 Montgomery Street\, The Presi
 dio\, San Francisco\, CA 94129
STATUS:CONFIRMED
URL:https://accessevents.org/events/sensory-friendly-film-screening-happie
 st-place-on-earth-20260502/
END:VEVENT
BEGIN:VEVENT
SUMMARY:Sensory-Friendly Film Screening: Happiest Place on Earth
DTSTART;TZID=America/Los_Angeles:20260503T110000
DTSTAMP:20260423T182316Z
UID:sensory-friendly-film-screening-happiest-place-on-earth-20260503@acces
 sevents.org
SEQUENCE:0
DESCRIPTION:Sensory-friendly screening of the featurette tracing Disneylan
 d's creation through Walt Disney's vision. Lights dimmed instead of off\, 
 volume lowered\, and closed captioning available on request. Guests are we
 lcome to move around freely.\n\nAccessibility: Wheelchair Accessible Venue
 \, Sensory-Friendly
LAST-MODIFIED:20260423T182316Z
LOCATION:The Walt Disney Family Museum\, 104 Montgomery Street\, The Presi
 dio\, San Francisco\, CA 94129
STATUS:CONFIRMED
URL:https://accessevents.org/events/sensory-friendly-film-screening-happie
 st-place-on-earth-20260503/
END:VEVENT
BEGIN:VEVENT
SUMMARY:Sensory-Friendly Film Screening: Happiest Place on Earth
DTSTART;TZID=America/Los_Angeles:20260507T110000
DTSTAMP:20260423T182316Z
UID:sensory-friendly-film-screening-happiest-place-on-earth-20260507@acces
 sevents.org
SEQUENCE:0
DESCRIPTION:Sensory-friendly screening of the featurette tracing Disneylan
 d's creation through Walt Disney's vision. Lights dimmed instead of off\, 
 volume lowered\, and closed captioning available on request. Guests are we
 lcome to move around freely.\n\nAccessibility: Wheelchair Accessible Venue
 \, Sensory-Friendly
LAST-MODIFIED:20260423T182316Z
LOCATION:The Walt Disney Family Museum\, 104 Montgomery Street\, The Presi
 dio\, San Francisco\, CA 94129
STATUS:CONFIRMED
URL:https://accessevents.org/events/sensory-friendly-film-screening-happie
 st-place-on-earth-20260507/
END:VEVENT
BEGIN:VEVENT
SUMMARY:Sensory-Friendly Film Screening: Happiest Place on Earth
DTSTART;TZID=America/Los_Angeles:20260508T110000
DTSTAMP:20260423T182316Z
UID:sensory-friendly-film-screening-happiest-place-on-earth-20260508@acces
 sevents.org
SEQUENCE:0
DESCRIPTION:Sensory-friendly screening of the featurette tracing Disneylan
 d's creation through Walt Disney's vision. Lights dimmed instead of off\, 
 volume lowered\, and closed captioning available on request. Guests are we
 lcome to move around freely.\n\nAccessibility: Wheelchair Accessible Venue
 \, Sensory-Friendly
LAST-MODIFIED:20260423T182316Z
LOCATION:The Walt Disney Family Museum\, 104 Montgomery Street\, The Presi
 dio\, San Francisco\, CA 94129
STATUS:CONFIRMED
URL:https://accessevents.org/events/sensory-friendly-film-screening-happie
 st-place-on-earth-20260508/
END:VEVENT
BEGIN:VEVENT
SUMMARY:Sensory-Friendly Film Screening: Happiest Place on Earth
DTSTART;TZID=America/Los_Angeles:20260509T110000
DTSTAMP:20260423T182316Z
UID:sensory-friendly-film-screening-happiest-place-on-earth-20260509@acces
 sevents.org
SEQUENCE:0
DESCRIPTION:Sensory-friendly screening of the featurette tracing Disneylan
 d's creation through Walt Disney's vision. Lights dimmed instead of off\, 
 volume lowered\, and closed captioning available on request. Guests are we
 lcome to move around freely.\n\nAccessibility: Wheelchair Accessible Venue
 \, Sensory-Friendly
LAST-MODIFIED:20260423T182316Z
LOCATION:The Walt Disney Family Museum\, 104 Montgomery Street\, The Presi
 dio\, San Francisco\, CA 94129
STATUS:CONFIRMED
URL:https://accessevents.org/events/sensory-friendly-film-screening-happie
 st-place-on-earth-20260509/
END:VEVENT
BEGIN:VEVENT
SUMMARY:Sensory-Friendly Film Screening: Happiest Place on Earth
DTSTART;TZID=America/Los_Angeles:20260510T110000
DTSTAMP:20260423T182316Z
UID:sensory-friendly-film-screening-happiest-place-on-earth-20260510@acces
 sevents.org
SEQUENCE:0
DESCRIPTION:Sensory-friendly screening of the featurette tracing Disneylan
 d's creation through Walt Disney's vision. Lights dimmed instead of off\, 
 volume lowered\, and closed captioning available on request. Guests are we
 lcome to move around freely.\n\nAccessibility: Wheelchair Accessible Venue
 \, Sensory-Friendly
LAST-MODIFIED:20260423T182316Z
LOCATION:The Walt Disney Family Museum\, 104 Montgomery Street\, The Presi
 dio\, San Francisco\, CA 94129
STATUS:CONFIRMED
URL:https://accessevents.org/events/sensory-friendly-film-screening-happie
 st-place-on-earth-20260510/
END:VEVENT
BEGIN:VEVENT
SUMMARY:Sensory-Friendly Film Screening: Happiest Place on Earth
DTSTART;TZID=America/Los_Angeles:20260514T110000
DTSTAMP:20260423T182316Z
UID:sensory-friendly-film-screening-happiest-place-on-earth-20260514@acces
 sevents.org
SEQUENCE:0
DESCRIPTION:Sensory-friendly screening of the featurette tracing Disneylan
 d's creation through Walt Disney's vision. Lights dimmed instead of off\, 
 volume lowered\, and closed captioning available on request. Guests are we
 lcome to move around freely.\n\nAccessibility: Wheelchair Accessible Venue
 \, Sensory-Friendly
LAST-MODIFIED:20260423T182316Z
LOCATION:The Walt Disney Family Museum\, 104 Montgomery Street\, The Presi
 dio\, San Francisco\, CA 94129
STATUS:CONFIRMED
URL:https://accessevents.org/events/sensory-friendly-film-screening-happie
 st-place-on-earth-20260514/
END:VEVENT
BEGIN:VEVENT
SUMMARY:Sensory-Friendly Film Screening: Happiest Place on Earth
DTSTART;TZID=America/Los_Angeles:20260515T110000
DTSTAMP:20260423T182316Z
UID:sensory-friendly-film-screening-happiest-place-on-earth-20260515@acces
 sevents.org
SEQUENCE:0
DESCRIPTION:Sensory-friendly screening of the featurette tracing Disneylan
 d's creation through Walt Disney's vision. Lights dimmed instead of off\, 
 volume lowered\, and closed captioning available on request. Guests are we
 lcome to move around freely.\n\nAccessibility: Wheelchair Accessible Venue
 \, Sensory-Friendly
LAST-MODIFIED:20260423T182316Z
LOCATION:The Walt Disney Family Museum\, 104 Montgomery Street\, The Presi
 dio\, San Francisco\, CA 94129
STATUS:CONFIRMED
URL:https://accessevents.org/events/sensory-friendly-film-screening-happie
 st-place-on-earth-20260515/
END:VEVENT
BEGIN:VEVENT
SUMMARY:Sensory-Friendly Film Screening: Happiest Place on Earth
DTSTART;TZID=America/Los_Angeles:20260516T110000
DTSTAMP:20260423T182316Z
UID:sensory-friendly-film-screening-happiest-place-on-earth-20260516@acces
 sevents.org
SEQUENCE:0
DESCRIPTION:Sensory-friendly screening of the featurette tracing Disneylan
 d's creation through Walt Disney's vision. Lights dimmed instead of off\, 
 volume lowered\, and closed captioning available on request. Guests are we
 lcome to move around freely.\n\nAccessibility: Wheelchair Accessible Venue
 \, Sensory-Friendly
LAST-MODIFIED:20260423T182316Z
LOCATION:The Walt Disney Family Museum\, 104 Montgomery Street\, The Presi
 dio\, San Francisco\, CA 94129
STATUS:CONFIRMED
URL:https://accessevents.org/events/sensory-friendly-film-screening-happie
 st-place-on-earth-20260516/
END:VEVENT
BEGIN:VEVENT
SUMMARY:Sensory-Friendly Film Screening: Happiest Place on Earth
DTSTART;TZID=America/Los_Angeles:20260517T110000
DTSTAMP:20260423T182316Z
UID:sensory-friendly-film-screening-happiest-place-on-earth-20260517@acces
 sevents.org
SEQUENCE:0
DESCRIPTION:Sensory-friendly screening of the featurette tracing Disneylan
 d's creation through Walt Disney's vision. Lights dimmed instead of off\, 
 volume lowered\, and closed captioning available on request. Guests are we
 lcome to move around freely.\n\nAccessibility: Wheelchair Accessible Venue
 \, Sensory-Friendly
LAST-MODIFIED:20260423T182316Z
LOCATION:The Walt Disney Family Museum\, 104 Montgomery Street\, The Presi
 dio\, San Francisco\, CA 94129
STATUS:CONFIRMED
URL:https://accessevents.org/events/sensory-friendly-film-screening-happie
 st-place-on-earth-20260517/
END:VEVENT
BEGIN:VEVENT
SUMMARY:Sensory-Friendly Film Screening: Happiest Place on Earth
DTSTART;TZID=America/Los_Angeles:20260521T110000
DTSTAMP:20260423T182316Z
UID:sensory-friendly-film-screening-happiest-place-on-earth-20260521@acces
 sevents.org
SEQUENCE:0
DESCRIPTION:Sensory-friendly screening of the featurette tracing Disneylan
 d's creation through Walt Disney's vision. Lights dimmed instead of off\, 
 volume lowered\, and closed captioning available on request. Guests are we
 lcome to move around freely.\n\nAccessibility: Wheelchair Accessible Venue
 \, Sensory-Friendly
LAST-MODIFIED:20260423T182316Z
LOCATION:The Walt Disney Family Museum\, 104 Montgomery Street\, The Presi
 dio\, San Francisco\, CA 94129
STATUS:CONFIRMED
URL:https://accessevents.org/events/sensory-friendly-film-screening-happie
 st-place-on-earth-20260521/
END:VEVENT
BEGIN:VEVENT
SUMMARY:Sensory-Friendly Film Screening: Happiest Place on Earth
DTSTART;TZID=America/Los_Angeles:20260522T110000
DTSTAMP:20260423T182316Z
UID:sensory-friendly-film-screening-happiest-place-on-earth-20260522@acces
 sevents.org
SEQUENCE:0
DESCRIPTION:Sensory-friendly screening of the featurette tracing Disneylan
 d's creation through Walt Disney's vision. Lights dimmed instead of off\, 
 volume lowered\, and closed captioning available on request. Guests are we
 lcome to move around freely.\n\nAccessibility: Wheelchair Accessible Venue
 \, Sensory-Friendly
LAST-MODIFIED:20260423T182316Z
LOCATION:The Walt Disney Family Museum\, 104 Montgomery Street\, The Presi
 dio\, San Francisco\, CA 94129
STATUS:CONFIRMED
URL:https://accessevents.org/events/sensory-friendly-film-screening-happie
 st-place-on-earth-20260522/
END:VEVENT
BEGIN:VEVENT
SUMMARY:Sensory-Friendly Film Screening: Happiest Place on Earth
DTSTART;TZID=America/Los_Angeles:20260523T110000
DTSTAMP:20260423T182316Z
UID:sensory-friendly-film-screening-happiest-place-on-earth-20260523@acces
 sevents.org
SEQUENCE:0
DESCRIPTION:Sensory-friendly screening of the featurette tracing Disneylan
 d's creation through Walt Disney's vision. Lights dimmed instead of off\, 
 volume lowered\, and closed captioning available on request. Guests are we
 lcome to move around freely.\n\nAccessibility: Wheelchair Accessible Venue
 \, Sensory-Friendly
LAST-MODIFIED:20260423T182316Z
LOCATION:The Walt Disney Family Museum\, 104 Montgomery Street\, The Presi
 dio\, San Francisco\, CA 94129
STATUS:CONFIRMED
URL:https://accessevents.org/events/sensory-friendly-film-screening-happie
 st-place-on-earth-20260523/
END:VEVENT
BEGIN:VEVENT
SUMMARY:Sensory-Friendly Film Screening: Happiest Place on Earth
DTSTART;TZID=America/Los_Angeles:20260524T110000
DTSTAMP:20260423T182316Z
UID:sensory-friendly-film-screening-happiest-place-on-earth-20260524@acces
 sevents.org
SEQUENCE:0
DESCRIPTION:Sensory-friendly screening of the featurette tracing Disneylan
 d's creation through Walt Disney's vision. Lights dimmed instead of off\, 
 volume lowered\, and closed captioning available on request. Guests are we
 lcome to move around freely.\n\nAccessibility: Wheelchair Accessible Venue
 \, Sensory-Friendly
LAST-MODIFIED:20260423T182316Z
LOCATION:The Walt Disney Family Museum\, 104 Montgomery Street\, The Presi
 dio\, San Francisco\, CA 94129
STATUS:CONFIRMED
URL:https://accessevents.org/events/sensory-friendly-film-screening-happie
 st-place-on-earth-20260524/
END:VEVENT
BEGIN:VEVENT
SUMMARY:Sensory-Friendly Film Screening: Happiest Place on Earth
DTSTART;TZID=America/Los_Angeles:20260528T110000
DTSTAMP:20260423T182316Z
UID:sensory-friendly-film-screening-happiest-place-on-earth-20260528@acces
 sevents.org
SEQUENCE:0
DESCRIPTION:Sensory-friendly screening of the featurette tracing Disneylan
 d's creation through Walt Disney's vision. Lights dimmed instead of off\, 
 volume lowered\, and closed captioning available on request. Guests are we
 lcome to move around freely.\n\nAccessibility: Wheelchair Accessible Venue
 \, Sensory-Friendly
LAST-MODIFIED:20260423T182316Z
LOCATION:The Walt Disney Family Museum\, 104 Montgomery Street\, The Presi
 dio\, San Francisco\, CA 94129
STATUS:CONFIRMED
URL:https://accessevents.org/events/sensory-friendly-film-screening-happie
 st-place-on-earth-20260528/
END:VEVENT
BEGIN:VEVENT
SUMMARY:Sensory-Friendly Film Screening: Happiest Place on Earth
DTSTART;TZID=America/Los_Angeles:20260529T110000
DTSTAMP:20260423T182316Z
UID:sensory-friendly-film-screening-happiest-place-on-earth-20260529@acces
 sevents.org
SEQUENCE:0
DESCRIPTION:Sensory-friendly screening of the featurette tracing Disneylan
 d's creation through Walt Disney's vision. Lights dimmed instead of off\, 
 volume lowered\, and closed captioning available on request. Guests are we
 lcome to move around freely.\n\nAccessibility: Wheelchair Accessible Venue
 \, Sensory-Friendly
LAST-MODIFIED:20260423T182316Z
LOCATION:The Walt Disney Family Museum\, 104 Montgomery Street\, The Presi
 dio\, San Francisco\, CA 94129
STATUS:CONFIRMED
URL:https://accessevents.org/events/sensory-friendly-film-screening-happie
 st-place-on-earth-20260529/
END:VEVENT
BEGIN:VEVENT
SUMMARY:Sensory-Friendly Film Screening: Happiest Place on Earth
DTSTART;TZID=America/Los_Angeles:20260530T110000
DTSTAMP:20260423T182316Z
UID:sensory-friendly-film-screening-happiest-place-on-earth-20260530@acces
 sevents.org
SEQUENCE:0
DESCRIPTION:Sensory-friendly screening of the featurette tracing Disneylan
 d's creation through Walt Disney's vision. Lights dimmed instead of off\, 
 volume lowered\, and closed captioning available on request. Guests are we
 lcome to move around freely.\n\nAccessibility: Wheelchair Accessible Venue
 \, Sensory-Friendly
LAST-MODIFIED:20260423T182316Z
LOCATION:The Walt Disney Family Museum\, 104 Montgomery Street\, The Presi
 dio\, San Francisco\, CA 94129
STATUS:CONFIRMED
URL:https://accessevents.org/events/sensory-friendly-film-screening-happie
 st-place-on-earth-20260530/
END:VEVENT
BEGIN:VEVENT
SUMMARY:Sensory-Friendly Film Screening: Happiest Place on Earth
DTSTART;TZID=America/Los_Angeles:20260531T110000
DTSTAMP:20260423T182316Z
UID:sensory-friendly-film-screening-happiest-place-on-earth-20260531@acces
 sevents.org
SEQUENCE:0
DESCRIPTION:Sensory-friendly screening of the featurette tracing Disneylan
 d's creation through Walt Disney's vision. Lights dimmed instead of off\, 
 volume lowered\, and closed captioning available on request. Guests are we
 lcome to move around freely.\n\nAccessibility: Wheelchair Accessible Venue
 \, Sensory-Friendly
LAST-MODIFIED:20260423T182316Z
LOCATION:The Walt Disney Family Museum\, 104 Montgomery Street\, The Presi
 dio\, San Francisco\, CA 94129
STATUS:CONFIRMED
URL:https://accessevents.org/events/sensory-friendly-film-screening-happie
 st-place-on-earth-20260531/
END:VEVENT
BEGIN:VEVENT
SUMMARY:Sensory-Friendly Film Screening: Happiest Place on Earth
DTSTART;TZID=America/Los_Angeles:20260604T110000
DTSTAMP:20260423T182316Z
UID:sensory-friendly-film-screening-happiest-place-on-earth-20260604@acces
 sevents.org
SEQUENCE:0
DESCRIPTION:Sensory-friendly screening of the featurette tracing Disneylan
 d's creation through Walt Disney's vision. Lights dimmed instead of off\, 
 volume lowered\, and closed captioning available on request. Guests are we
 lcome to move around freely.\n\nAccessibility: Wheelchair Accessible Venue
 \, Sensory-Friendly
LAST-MODIFIED:20260423T182316Z
LOCATION:The Walt Disney Family Museum\, 104 Montgomery Street\, The Presi
 dio\, San Francisco\, CA 94129
STATUS:CONFIRMED
URL:https://accessevents.org/events/sensory-friendly-film-screening-happie
 st-place-on-earth-20260604/
END:VEVENT
BEGIN:VEVENT
SUMMARY:Sensory-Friendly Film Screening: Happiest Place on Earth
DTSTART;TZID=America/Los_Angeles:20260605T110000
DTSTAMP:20260423T182316Z
UID:sensory-friendly-film-screening-happiest-place-on-earth-20260605@acces
 sevents.org
SEQUENCE:0
DESCRIPTION:Sensory-friendly screening of the featurette tracing Disneylan
 d's creation through Walt Disney's vision. Lights dimmed instead of off\, 
 volume lowered\, and closed captioning available on request. Guests are we
 lcome to move around freely.\n\nAccessibility: Wheelchair Accessible Venue
 \, Sensory-Friendly
LAST-MODIFIED:20260423T182316Z
LOCATION:The Walt Disney Family Museum\, 104 Montgomery Street\, The Presi
 dio\, San Francisco\, CA 94129
STATUS:CONFIRMED
URL:https://accessevents.org/events/sensory-friendly-film-screening-happie
 st-place-on-earth-20260605/
END:VEVENT
BEGIN:VEVENT
SUMMARY:Sensory-Friendly Film Screening: Happiest Place on Earth
DTSTART;TZID=America/Los_Angeles:20260606T110000
DTSTAMP:20260423T182316Z
UID:sensory-friendly-film-screening-happiest-place-on-earth-20260606@acces
 sevents.org
SEQUENCE:0
DESCRIPTION:Sensory-friendly screening of the featurette tracing Disneylan
 d's creation through Walt Disney's vision. Lights dimmed instead of off\, 
 volume lowered\, and closed captioning available on request. Guests are we
 lcome to move around freely.\n\nAccessibility: Wheelchair Accessible Venue
 \, Sensory-Friendly
LAST-MODIFIED:20260423T182316Z
LOCATION:The Walt Disney Family Museum\, 104 Montgomery Street\, The Presi
 dio\, San Francisco\, CA 94129
STATUS:CONFIRMED
URL:https://accessevents.org/events/sensory-friendly-film-screening-happie
 st-place-on-earth-20260606/
END:VEVENT
BEGIN:VEVENT
SUMMARY:Sensory-Friendly Film Screening: Happiest Place on Earth
DTSTART;TZID=America/Los_Angeles:20260607T110000
DTSTAMP:20260423T182316Z
UID:sensory-friendly-film-screening-happiest-place-on-earth-20260607@acces
 sevents.org
SEQUENCE:0
DESCRIPTION:Sensory-friendly screening of the featurette tracing Disneylan
 d's creation through Walt Disney's vision. Lights dimmed instead of off\, 
 volume lowered\, and closed captioning available on request. Guests are we
 lcome to move around freely.\n\nAccessibility: Wheelchair Accessible Venue
 \, Sensory-Friendly
LAST-MODIFIED:20260423T182316Z
LOCATION:The Walt Disney Family Museum\, 104 Montgomery Street\, The Presi
 dio\, San Francisco\, CA 94129
STATUS:CONFIRMED
URL:https://accessevents.org/events/sensory-friendly-film-screening-happie
 st-place-on-earth-20260607/
END:VEVENT
BEGIN:VEVENT
SUMMARY:Sensory-Friendly Film Screening: Happiest Place on Earth
DTSTART;TZID=America/Los_Angeles:20260611T110000
DTSTAMP:20260423T182316Z
UID:sensory-friendly-film-screening-happiest-place-on-earth-20260611@acces
 sevents.org
SEQUENCE:0
DESCRIPTION:Sensory-friendly screening of the featurette tracing Disneylan
 d's creation through Walt Disney's vision. Lights dimmed instead of off\, 
 volume lowered\, and closed captioning available on request. Guests are we
 lcome to move around freely.\n\nAccessibility: Wheelchair Accessible Venue
 \, Sensory-Friendly
LAST-MODIFIED:20260423T182316Z
LOCATION:The Walt Disney Family Museum\, 104 Montgomery Street\, The Presi
 dio\, San Francisco\, CA 94129
STATUS:CONFIRMED
URL:https://accessevents.org/events/sensory-friendly-film-screening-happie
 st-place-on-earth-20260611/
END:VEVENT
BEGIN:VEVENT
SUMMARY:Sensory-Friendly Film Screening: Happiest Place on Earth
DTSTART;TZID=America/Los_Angeles:20260612T110000
DTSTAMP:20260423T182316Z
UID:sensory-friendly-film-screening-happiest-place-on-earth-20260612@acces
 sevents.org
SEQUENCE:0
DESCRIPTION:Sensory-friendly screening of the featurette tracing Disneylan
 d's creation through Walt Disney's vision. Lights dimmed instead of off\, 
 volume lowered\, and closed captioning available on request. Guests are we
 lcome to move around freely.\n\nAccessibility: Wheelchair Accessible Venue
 \, Sensory-Friendly
LAST-MODIFIED:20260423T182316Z
LOCATION:The Walt Disney Family Museum\, 104 Montgomery Street\, The Presi
 dio\, San Francisco\, CA 94129
STATUS:CONFIRMED
URL:https://accessevents.org/events/sensory-friendly-film-screening-happie
 st-place-on-earth-20260612/
END:VEVENT
BEGIN:VEVENT
SUMMARY:Sensory-Friendly Film Screening: Happiest Place on Earth
DTSTART;TZID=America/Los_Angeles:20260613T110000
DTSTAMP:20260423T182316Z
UID:sensory-friendly-film-screening-happiest-place-on-earth-20260613@acces
 sevents.org
SEQUENCE:0
DESCRIPTION:Sensory-friendly screening of the featurette tracing Disneylan
 d's creation through Walt Disney's vision. Lights dimmed instead of off\, 
 volume lowered\, and closed captioning available on request. Guests are we
 lcome to move around freely.\n\nAccessibility: Wheelchair Accessible Venue
 \, Sensory-Friendly
LAST-MODIFIED:20260423T182316Z
LOCATION:The Walt Disney Family Museum\, 104 Montgomery Street\, The Presi
 dio\, San Francisco\, CA 94129
STATUS:CONFIRMED
URL:https://accessevents.org/events/sensory-friendly-film-screening-happie
 st-place-on-earth-20260613/
END:VEVENT
BEGIN:VEVENT
SUMMARY:Sensory-Friendly Film Screening: Happiest Place on Earth
DTSTART;TZID=America/Los_Angeles:20260614T110000
DTSTAMP:20260423T182316Z
UID:sensory-friendly-film-screening-happiest-place-on-earth-20260614@acces
 sevents.org
SEQUENCE:0
DESCRIPTION:Sensory-friendly screening of the featurette tracing Disneylan
 d's creation through Walt Disney's vision. Lights dimmed instead of off\, 
 volume lowered\, and closed captioning available on request. Guests are we
 lcome to move around freely.\n\nAccessibility: Wheelchair Accessible Venue
 \, Sensory-Friendly
LAST-MODIFIED:20260423T182316Z
LOCATION:The Walt Disney Family Museum\, 104 Montgomery Street\, The Presi
 dio\, San Francisco\, CA 94129
STATUS:CONFIRMED
URL:https://accessevents.org/events/sensory-friendly-film-screening-happie
 st-place-on-earth-20260614/
END:VEVENT
BEGIN:VEVENT
SUMMARY:Sensory-Friendly Film Screening: Happiest Place on Earth
DTSTART;TZID=America/Los_Angeles:20260618T110000
DTSTAMP:20260423T182316Z
UID:sensory-friendly-film-screening-happiest-place-on-earth-20260618@acces
 sevents.org
SEQUENCE:0
DESCRIPTION:Sensory-friendly screening of the featurette tracing Disneylan
 d's creation through Walt Disney's vision. Lights dimmed instead of off\, 
 volume lowered\, and closed captioning available on request. Guests are we
 lcome to move around freely.\n\nAccessibility: Wheelchair Accessible Venue
 \, Sensory-Friendly
LAST-MODIFIED:20260423T182316Z
LOCATION:The Walt Disney Family Museum\, 104 Montgomery Street\, The Presi
 dio\, San Francisco\, CA 94129
STATUS:CONFIRMED
URL:https://accessevents.org/events/sensory-friendly-film-screening-happie
 st-place-on-earth-20260618/
END:VEVENT
END:VCALENDAR
