BEGIN:VCALENDAR
VERSION:2.0
PRODID:-//Access Events//accessevents.org//
X-WR-CALDESC:ILRCSF Tune-Up First Tuesday recurring series on Access Event
 s
X-WR-CALNAME:Access Events — ILRCSF Tune-Up First Tuesday
BEGIN:VEVENT
SUMMARY:ILRCSF Tune-Up First Tuesday
DTSTART;TZID=America/Los_Angeles:20260505T143000
DTSTAMP:20260423T182316Z
UID:ilrcsf-tune-up-first-tuesday-20260505-2@accessevents.org
SEQUENCE:0
DESCRIPTION:Monthly drop-in event to learn about your wheelchair\, powerch
 air\, scooter\, walker\, or rollator\, how to advocate for repairs\, and p
 erform basic maintenance. Free mini toolkits available.\n\nAccessibility: 
 Wheelchair Accessible Venue
LAST-MODIFIED:20260423T182316Z
LOCATION:San Francisco Disability Cultural Center\, 165 Grove Street\, San
  Francisco\, CA
STATUS:CONFIRMED
URL:https://accessevents.org/events/ilrcsf-tune-up-first-tuesday-20260505-
 2/
END:VEVENT
BEGIN:VEVENT
SUMMARY:ILRCSF Tune-Up First Tuesday
DTSTART;TZID=America/Los_Angeles:20260602T143000
DTSTAMP:20260423T182316Z
UID:ilrcsf-tune-up-first-tuesday-20260602@accessevents.org
SEQUENCE:0
DESCRIPTION:Monthly drop-in event to learn about your wheelchair\, powerch
 air\, scooter\, walker\, or rollator\, how to advocate for repairs\, and p
 erform basic maintenance. Free mini toolkits available.\n\nAccessibility: 
 Wheelchair Accessible Venue
LAST-MODIFIED:20260423T182316Z
LOCATION:San Francisco Disability Cultural Center\, 165 Grove Street\, San
  Francisco\, CA
STATUS:CONFIRMED
URL:https://accessevents.org/events/ilrcsf-tune-up-first-tuesday-20260602/
END:VEVENT
END:VCALENDAR
