BEGIN:VCALENDAR
VERSION:2.0
PRODID:-//Access Events//accessevents.org//
X-WR-CALDESC:Dance Classes for People with Parkinson's recurring series on
  Access Events
X-WR-CALNAME:Access Events — Dance Classes for People with Parkinson's
BEGIN:VEVENT
SUMMARY:Dance Classes for People with Parkinson's
DTSTART;TZID=America/Los_Angeles:20260425T133000
DTSTAMP:20260423T182316Z
UID:dance-classes-for-people-with-parkinsons-20260425-2@accessevents.org
SEQUENCE:0
DESCRIPTION:Free weekly ballet-based dance class for people with Parkinson
 's and other movement disabilities\, along with family members and caregiv
 ers. Class begins seated and progresses as ability allows\, with live pian
 o accompaniment. No dance experience required.\n\nAccessibility: Wheelchai
 r Accessible Venue
LAST-MODIFIED:20260423T182316Z
LOCATION:San Francisco Ballet School\, 455 Franklin Street\, San Francisco
 \, CA 94102
STATUS:CONFIRMED
URL:https://accessevents.org/events/dance-classes-for-people-with-parkinso
 ns-20260425-2/
END:VEVENT
BEGIN:VEVENT
SUMMARY:Dance Classes for People with Parkinson's
DTSTART;TZID=America/Los_Angeles:20260502T133000
DTSTAMP:20260423T182316Z
UID:dance-classes-for-people-with-parkinsons-20260502@accessevents.org
SEQUENCE:0
DESCRIPTION:Free weekly ballet-based dance class for people with Parkinson
 's and other movement disabilities\, along with family members and caregiv
 ers. Class begins seated and progresses as ability allows\, with live pian
 o accompaniment. No dance experience required.\n\nAccessibility: Wheelchai
 r Accessible Venue
LAST-MODIFIED:20260423T182316Z
LOCATION:San Francisco Ballet School\, 455 Franklin Street\, San Francisco
 \, CA 94102
STATUS:CONFIRMED
URL:https://accessevents.org/events/dance-classes-for-people-with-parkinso
 ns-20260502/
END:VEVENT
BEGIN:VEVENT
SUMMARY:Dance Classes for People with Parkinson's
DTSTART;TZID=America/Los_Angeles:20260509T133000
DTSTAMP:20260423T182316Z
UID:dance-classes-for-people-with-parkinsons-20260509@accessevents.org
SEQUENCE:0
DESCRIPTION:Free weekly ballet-based dance class for people with Parkinson
 's and other movement disabilities\, along with family members and caregiv
 ers. Class begins seated and progresses as ability allows\, with live pian
 o accompaniment. No dance experience required.\n\nAccessibility: Wheelchai
 r Accessible Venue
LAST-MODIFIED:20260423T182316Z
LOCATION:San Francisco Ballet School\, 455 Franklin Street\, San Francisco
 \, CA 94102
STATUS:CONFIRMED
URL:https://accessevents.org/events/dance-classes-for-people-with-parkinso
 ns-20260509/
END:VEVENT
BEGIN:VEVENT
SUMMARY:Dance Classes for People with Parkinson's
DTSTART;TZID=America/Los_Angeles:20260516T133000
DTSTAMP:20260423T182316Z
UID:dance-classes-for-people-with-parkinsons-20260516@accessevents.org
SEQUENCE:0
DESCRIPTION:Free weekly ballet-based dance class for people with Parkinson
 's and other movement disabilities\, along with family members and caregiv
 ers. Class begins seated and progresses as ability allows\, with live pian
 o accompaniment. No dance experience required.\n\nAccessibility: Wheelchai
 r Accessible Venue
LAST-MODIFIED:20260423T182316Z
LOCATION:San Francisco Ballet School\, 455 Franklin Street\, San Francisco
 \, CA 94102
STATUS:CONFIRMED
URL:https://accessevents.org/events/dance-classes-for-people-with-parkinso
 ns-20260516/
END:VEVENT
BEGIN:VEVENT
SUMMARY:Dance Classes for People with Parkinson's
DTSTART;TZID=America/Los_Angeles:20260523T133000
DTSTAMP:20260423T182316Z
UID:dance-classes-for-people-with-parkinsons-20260523@accessevents.org
SEQUENCE:0
DESCRIPTION:Free weekly ballet-based dance class for people with Parkinson
 's and other movement disabilities\, along with family members and caregiv
 ers. Class begins seated and progresses as ability allows\, with live pian
 o accompaniment. No dance experience required.\n\nAccessibility: Wheelchai
 r Accessible Venue
LAST-MODIFIED:20260423T182316Z
LOCATION:San Francisco Ballet School\, 455 Franklin Street\, San Francisco
 \, CA 94102
STATUS:CONFIRMED
URL:https://accessevents.org/events/dance-classes-for-people-with-parkinso
 ns-20260523/
END:VEVENT
BEGIN:VEVENT
SUMMARY:Dance Classes for People with Parkinson's
DTSTART;TZID=America/Los_Angeles:20260530T133000
DTSTAMP:20260423T182316Z
UID:dance-classes-for-people-with-parkinsons-20260530@accessevents.org
SEQUENCE:0
DESCRIPTION:Free weekly ballet-based dance class for people with Parkinson
 's and other movement disabilities\, along with family members and caregiv
 ers. Class begins seated and progresses as ability allows\, with live pian
 o accompaniment. No dance experience required.\n\nAccessibility: Wheelchai
 r Accessible Venue
LAST-MODIFIED:20260423T182316Z
LOCATION:San Francisco Ballet School\, 455 Franklin Street\, San Francisco
 \, CA 94102
STATUS:CONFIRMED
URL:https://accessevents.org/events/dance-classes-for-people-with-parkinso
 ns-20260530/
END:VEVENT
BEGIN:VEVENT
SUMMARY:Dance Classes for People with Parkinson's
DTSTART;TZID=America/Los_Angeles:20260606T133000
DTSTAMP:20260423T182316Z
UID:dance-classes-for-people-with-parkinsons-20260606@accessevents.org
SEQUENCE:0
DESCRIPTION:Free weekly ballet-based dance class for people with Parkinson
 's and other movement disabilities\, along with family members and caregiv
 ers. Class begins seated and progresses as ability allows\, with live pian
 o accompaniment. No dance experience required.\n\nAccessibility: Wheelchai
 r Accessible Venue
LAST-MODIFIED:20260423T182316Z
LOCATION:San Francisco Ballet School\, 455 Franklin Street\, San Francisco
 \, CA 94102
STATUS:CONFIRMED
URL:https://accessevents.org/events/dance-classes-for-people-with-parkinso
 ns-20260606/
END:VEVENT
BEGIN:VEVENT
SUMMARY:Dance Classes for People with Parkinson's
DTSTART;TZID=America/Los_Angeles:20260613T133000
DTSTAMP:20260423T182316Z
UID:dance-classes-for-people-with-parkinsons-20260613@accessevents.org
SEQUENCE:0
DESCRIPTION:Free weekly ballet-based dance class for people with Parkinson
 's and other movement disabilities\, along with family members and caregiv
 ers. Class begins seated and progresses as ability allows\, with live pian
 o accompaniment. No dance experience required.\n\nAccessibility: Wheelchai
 r Accessible Venue
LAST-MODIFIED:20260423T182316Z
LOCATION:San Francisco Ballet School\, 455 Franklin Street\, San Francisco
 \, CA 94102
STATUS:CONFIRMED
URL:https://accessevents.org/events/dance-classes-for-people-with-parkinso
 ns-20260613/
END:VEVENT
END:VCALENDAR
