BEGIN:VCALENDAR
VERSION:2.0
PRODID:-//Access Events//accessevents.org//
X-WR-CALDESC:Events from The Arc San Francisco on Access Events
X-WR-CALNAME:Access Events — The Arc San Francisco
BEGIN:VEVENT
SUMMARY:Building Bridges: Employer Networking Event
DTSTART;TZID=America/Los_Angeles:20260506T170000
DTEND;TZID=America/Los_Angeles:20260506T190000
DTSTAMP:20260423T182301Z
UID:building-bridges-employer-networking-event-20260506@accessevents.org
SEQUENCE:0
DESCRIPTION:The Arc San Francisco hosts a networking event connecting empl
 oyers with talented individuals with intellectual and developmental disabi
 lities ready to work.\n\nAccessibility: Wheelchair Accessible Venue
LAST-MODIFIED:20260423T182301Z
LOCATION:Beacon Grand\, A Union Square Hotel\, 450 Powell Street\, San Fra
 ncisco\, CA 94102
STATUS:CONFIRMED
URL:https://accessevents.org/events/building-bridges-employer-networking-e
 vent-20260506/
END:VEVENT
END:VCALENDAR
