BEGIN:VCALENDAR
VERSION:2.0
PRODID:-//Access Events//accessevents.org//
X-WR-CALDESC:Events from Southern Nevada Centers for Independent Living on
  Access Events
X-WR-CALNAME:Access Events — Southern Nevada Centers for Independent Liv
 ing
BEGIN:VEVENT
SUMMARY:SNCIL Housing 101 Workshop - May Afternoon
DTSTART;TZID=America/Los_Angeles:20260514T133000
DTEND;TZID=America/Los_Angeles:20260514T153000
DTSTAMP:20260425T063458Z
UID:sncil-housing-101-workshop-may-afternoon-20260514@accessevents.org
SEQUENCE:0
DESCRIPTION:Don’t miss our monthly housing class for current and new SNC
 IL consumers! Learn about your rights and everything you need to know abou
 t housing in Southern Nevada. Please contact us at 702-889-4216 to registe
 r. Space is limited and will only accommodate four registrations per sessi
 on.\n\nContact: sncil@sncil.org
LAST-MODIFIED:20260425T063458Z
LOCATION:Southern Nevada Center for Independent Living\, 2950 S. Rainbow B
 lvd\, Suite 220\, Las Vegas\, NV 89146
STATUS:CONFIRMED
URL:https://accessevents.org/events/sncil-housing-101-workshop-may-afterno
 on-20260514/
END:VEVENT
BEGIN:VEVENT
SUMMARY:SNCIL Housing 101 Workshop - June Morning
DTSTART;TZID=America/Los_Angeles:20260618T090000
DTEND;TZID=America/Los_Angeles:20260618T110000
DTSTAMP:20260425T063458Z
UID:sncil-housing-101-workshop-june-morning-20260618@accessevents.org
SEQUENCE:0
DESCRIPTION:Don’t miss our monthly housing class for current and new SNC
 IL consumers! Learn about your rights and everything you need to know abou
 t housing in Southern Nevada. Please contact us at 702-889-4216 to registe
 r. Space is limited and will only accommodate four registrations per sessi
 on.\n\nContact: sncil@sncil.org
LAST-MODIFIED:20260425T063458Z
LOCATION:Southern Nevada Center for Independent Living\, 2950 S. Rainbow B
 lvd\, Suite 220\, Las Vegas\, NV 89146
STATUS:CONFIRMED
URL:https://accessevents.org/events/sncil-housing-101-workshop-june-mornin
 g-20260618/
END:VEVENT
BEGIN:VEVENT
SUMMARY:SNCIL Housing 101 Workshop - June Afternoon
DTSTART;TZID=America/Los_Angeles:20260618T133000
DTEND;TZID=America/Los_Angeles:20260618T153000
DTSTAMP:20260425T063458Z
UID:sncil-housing-101-workshop-june-afternoon-20260618@accessevents.org
SEQUENCE:0
DESCRIPTION:Don’t miss our monthly housing class for current and new SNC
 IL consumers! Learn about your rights and everything you need to know abou
 t housing in Southern Nevada. Please contact us at 702-889-4216 to registe
 r. Space is limited and will only accommodate four registrations per sessi
 on.\n\nContact: sncil@sncil.org
LAST-MODIFIED:20260425T063458Z
LOCATION:Southern Nevada Center for Independent Living\, 2950 S. Rainbow B
 lvd\, Suite 220\, Las Vegas\, NV 89146
STATUS:CONFIRMED
URL:https://accessevents.org/events/sncil-housing-101-workshop-june-aftern
 oon-20260618/
END:VEVENT
BEGIN:VEVENT
SUMMARY:SNCIL Housing 101 Workshop - July Morning
DTSTART;TZID=America/Los_Angeles:20260716T090000
DTEND;TZID=America/Los_Angeles:20260716T110000
DTSTAMP:20260425T063458Z
UID:sncil-housing-101-workshop-july-morning-20260716@accessevents.org
SEQUENCE:0
DESCRIPTION:Don’t miss our monthly housing class for current and new SNC
 IL consumers! Learn about your rights and everything you need to know abou
 t housing in Southern Nevada. Please contact us at 702-889-4216 to registe
 r. Space is limited and will only accommodate four registrations per sessi
 on.\n\nContact: sncil@sncil.org
LAST-MODIFIED:20260425T063458Z
LOCATION:Southern Nevada Center for Independent Living\, 2950 S. Rainbow B
 lvd\, Suite 220\, Las Vegas\, NV 89146
STATUS:CONFIRMED
URL:https://accessevents.org/events/sncil-housing-101-workshop-july-mornin
 g-20260716/
END:VEVENT
BEGIN:VEVENT
SUMMARY:SNCIL Housing 101 Workshop - July Afternoon
DTSTART;TZID=America/Los_Angeles:20260716T133000
DTEND;TZID=America/Los_Angeles:20260716T153000
DTSTAMP:20260425T063458Z
UID:sncil-housing-101-workshop-july-afternoon-20260716@accessevents.org
SEQUENCE:0
DESCRIPTION:Don’t miss our monthly housing class for current and new SNC
 IL consumers! Learn about your rights and everything you need to know abou
 t housing in Southern Nevada. Please contact us at 702-889-4216 to registe
 r. Space is limited and will only accommodate four registrations per sessi
 on.\n\nContact: sncil@sncil.org
LAST-MODIFIED:20260425T063458Z
LOCATION:Southern Nevada Center for Independent Living\, 2950 S. Rainbow B
 lvd\, Suite 220\, Las Vegas\, NV 89146
STATUS:CONFIRMED
URL:https://accessevents.org/events/sncil-housing-101-workshop-july-aftern
 oon-20260716/
END:VEVENT
BEGIN:VEVENT
SUMMARY:SNCIL Housing 101 Workshop - August Morning
DTSTART;TZID=America/Los_Angeles:20260813T090000
DTEND;TZID=America/Los_Angeles:20260813T110000
DTSTAMP:20260425T063458Z
UID:sncil-housing-101-workshop-august-morning-20260813@accessevents.org
SEQUENCE:0
DESCRIPTION:Don’t miss our monthly housing class for current and new SNC
 IL consumers! Learn about your rights and everything you need to know abou
 t housing in Southern Nevada. Please contact us at 702-889-4216 to registe
 r. Space is limited and will only accommodate four registrations per sessi
 on.\n\nContact: sncil@sncil.org
LAST-MODIFIED:20260425T063458Z
LOCATION:Southern Nevada Center for Independent Living\, 2950 S. Rainbow B
 lvd\, Suite 220\, Las Vegas\, NV 89146
STATUS:CONFIRMED
URL:https://accessevents.org/events/sncil-housing-101-workshop-august-morn
 ing-20260813/
END:VEVENT
BEGIN:VEVENT
SUMMARY:SNCIL Housing 101 Workshop - August Afternoon
DTSTART;TZID=America/Los_Angeles:20260813T133000
DTEND;TZID=America/Los_Angeles:20260813T153000
DTSTAMP:20260425T063458Z
UID:sncil-housing-101-workshop-august-afternoon-20260813@accessevents.org
SEQUENCE:0
DESCRIPTION:Don’t miss our monthly housing class for current and new SNC
 IL consumers! Learn about your rights and everything you need to know abou
 t housing in Southern Nevada. Please contact us at 702-889-4216 to registe
 r. Space is limited and will only accommodate four registrations per sessi
 on.\n\nContact: sncil@sncil.org
LAST-MODIFIED:20260425T063458Z
LOCATION:Southern Nevada Center for Independent Living\, 2950 S. Rainbow B
 lvd\, Suite 220\, Las Vegas\, NV 89146
STATUS:CONFIRMED
URL:https://accessevents.org/events/sncil-housing-101-workshop-august-afte
 rnoon-20260813/
END:VEVENT
BEGIN:VEVENT
SUMMARY:Disability Awareness Day
DTSTART;TZID=America/Los_Angeles:20261010T100000
DTEND;TZID=America/Los_Angeles:20261010T140000
DTSTAMP:20260425T063458Z
UID:disability-awareness-day-20261010@accessevents.org
SEQUENCE:0
DESCRIPTION:October is National Disability Awareness Month\, and you are i
 nvited to attend the 35th Annual Disability Awareness Day. This free\, fam
 ily-friendly event features a Halloween costume contest with prizes for 1s
 t and 2nd place\, and free lunch will be provided to the first 250 attende
 es.\n\nContact: sncil@sncil.org
LAST-MODIFIED:20260425T063458Z
LOCATION:Sammy Davis Jr. Festival Plaza in Lorenzi Park\, 720 Twin Lakes D
 rive\, Las Vegas\, NV 89107
STATUS:CONFIRMED
URL:https://accessevents.org/events/disability-awareness-day-20261010/
END:VEVENT
END:VCALENDAR
