BEGIN:VCALENDAR
VERSION:2.0
PRODID:-//Access Events//accessevents.org//
X-WR-CALDESC:Events from Pursuit Adaptive Sports and Recreation on Access 
 Events
X-WR-CALNAME:Access Events — Pursuit Adaptive Sports and Recreation
BEGIN:VEVENT
SUMMARY:Adapted Film Screening
DTSTART;TZID=America/New_York:20260516T153000
DTEND;TZID=America/New_York:20260516T180000
DTSTAMP:20260423T182306Z
UID:adapted-film-screening-20260516@accessevents.org
SEQUENCE:0
DESCRIPTION:Screening of 'Adapted\,' a documentary about resilience\, adve
 nture\, and redefining what's possible after life-altering injury. Follows
  three adaptive athletes as they embark on a personal adventure to find ne
 w ways to access the places that make them feel most alive.\n\nAccessibili
 ty: Wheelchair Accessible Venue
LAST-MODIFIED:20260423T182306Z
LOCATION:The Miracle Theatre\, 535 8th Street SE\, Washington\, DC 20003
STATUS:CONFIRMED
URL:https://accessevents.org/events/adapted-film-screening-20260516/
END:VEVENT
END:VCALENDAR
