BEGIN:VCALENDAR
VERSION:2.0
PRODID:-//Access Events//accessevents.org//
X-WR-CALDESC:Events from The National WWII Museum on Access Events
X-WR-CALNAME:Access Events — The National WWII Museum
BEGIN:VEVENT
SUMMARY:Sensory Friendly Mornings - May
DTSTART;TZID=America/Chicago:20260523T080000
DTEND;TZID=America/Chicago:20260523T120000
DTSTAMP:20260425T063502Z
UID:sensory-friendly-mornings-may-20260523@accessevents.org
SEQUENCE:0
DESCRIPTION:Sensory Friendly Mornings are for individuals of all ages with
  special needs and their families to enjoy early access to the Museum with
  modifications to make the experience more sensory friendly.\n\nAccessibil
 ity: Sensory-Friendly\n\nContact: info@nationalww2museum.org
LAST-MODIFIED:20260425T063502Z
LOCATION:The National WWII Museum\, 945 Magazine Street\, New Orleans\, LA
  70130
STATUS:CONFIRMED
URL:https://accessevents.org/events/sensory-friendly-mornings-may-20260523
 /
END:VEVENT
BEGIN:VEVENT
SUMMARY:Sensory Friendly Mornings - June
DTSTART;TZID=America/Chicago:20260627T080000
DTEND;TZID=America/Chicago:20260627T120000
DTSTAMP:20260425T063502Z
UID:sensory-friendly-mornings-june-20260627@accessevents.org
SEQUENCE:0
DESCRIPTION:Sensory Friendly Mornings are for individuals of all ages with
  special needs and their families to enjoy early access to the Museum with
  modifications to make the experience more sensory friendly.\n\nAccessibil
 ity: Sensory-Friendly\n\nContact: info@nationalww2museum.org
LAST-MODIFIED:20260425T063502Z
LOCATION:The National WWII Museum\, 945 Magazine Street\, New Orleans\, LA
  70130
STATUS:CONFIRMED
URL:https://accessevents.org/events/sensory-friendly-mornings-june-2026062
 7/
END:VEVENT
BEGIN:VEVENT
SUMMARY:Sensory Friendly Mornings - July
DTSTART;TZID=America/Chicago:20260725T080000
DTEND;TZID=America/Chicago:20260725T120000
DTSTAMP:20260425T063502Z
UID:sensory-friendly-mornings-july-20260725@accessevents.org
SEQUENCE:0
DESCRIPTION:Sensory Friendly Mornings are for individuals of all ages with
  special needs and their families to enjoy early access to the Museum with
  modifications to make the experience more sensory friendly.\n\nAccessibil
 ity: Sensory-Friendly\n\nContact: info@nationalww2museum.org
LAST-MODIFIED:20260425T063502Z
LOCATION:The National WWII Museum\, 945 Magazine Street\, New Orleans\, LA
  70130
STATUS:CONFIRMED
URL:https://accessevents.org/events/sensory-friendly-mornings-july-2026072
 5/
END:VEVENT
BEGIN:VEVENT
SUMMARY:Sensory Friendly Mornings - August
DTSTART;TZID=America/Chicago:20260829T080000
DTEND;TZID=America/Chicago:20260829T120000
DTSTAMP:20260425T063502Z
UID:sensory-friendly-mornings-august-20260829@accessevents.org
SEQUENCE:0
DESCRIPTION:Sensory Friendly Mornings are for individuals of all ages with
  special needs and their families to enjoy early access to the Museum with
  modifications to make the experience more sensory friendly.\n\nAccessibil
 ity: Sensory-Friendly\n\nContact: info@nationalww2museum.org
LAST-MODIFIED:20260425T063502Z
LOCATION:The National WWII Museum\, 945 Magazine Street\, New Orleans\, LA
  70130
STATUS:CONFIRMED
URL:https://accessevents.org/events/sensory-friendly-mornings-august-20260
 829/
END:VEVENT
BEGIN:VEVENT
SUMMARY:Sensory Friendly Mornings: Family Fun at the Museum!
DTSTART;TZID=America/Chicago:20260926T080000
DTEND;TZID=America/Chicago:20260926T120000
DTSTAMP:20260425T063502Z
UID:sensory-friendly-mornings-family-fun-at-the-museum-20260926@accesseven
 ts.org
SEQUENCE:0
DESCRIPTION:Join us in partnership with the Autism Society of Greater New 
 Orleans for a morning of sensory friendly fun!\n\nAccessibility: Sensory-F
 riendly\n\nContact: info@nationalww2museum.org
LAST-MODIFIED:20260425T063502Z
LOCATION:The National WWII Museum\, 945 Magazine Street\, New Orleans\, LA
  70130
STATUS:CONFIRMED
URL:https://accessevents.org/events/sensory-friendly-mornings-family-fun-a
 t-the-museum-20260926/
END:VEVENT
BEGIN:VEVENT
SUMMARY:Sensory Friendly Mornings - October
DTSTART;TZID=America/Chicago:20261024T080000
DTEND;TZID=America/Chicago:20261024T120000
DTSTAMP:20260425T063502Z
UID:sensory-friendly-mornings-october-20261024@accessevents.org
SEQUENCE:0
DESCRIPTION:Sensory Friendly Mornings are for individuals of all ages with
  special needs and their families to enjoy early access to the Museum with
  modifications to make the experience more sensory friendly.\n\nAccessibil
 ity: Sensory-Friendly\n\nContact: info@nationalww2museum.org
LAST-MODIFIED:20260425T063502Z
LOCATION:The National WWII Museum\, 945 Magazine Street\, New Orleans\, LA
  70130
STATUS:CONFIRMED
URL:https://accessevents.org/events/sensory-friendly-mornings-october-2026
 1024/
END:VEVENT
END:VCALENDAR
