BEGIN:VCALENDAR
VERSION:2.0
PRODID:-//Access Events//accessevents.org//
X-WR-CALDESC:Events from National Council on Independent Living on Access 
 Events
X-WR-CALNAME:Access Events — National Council on Independent Living
BEGIN:VEVENT
SUMMARY:NCIL 2026 Annual Conference on Independent Living
DTSTART;TZID=America/New_York:20260720T090000
DTEND;TZID=America/New_York:20260723T170000
DTSTAMP:20260423T182306Z
UID:ncil-2026-annual-conference-on-independent-living-20260720@accessevent
 s.org
SEQUENCE:0
DESCRIPTION:The largest cross-disability\, cross-constituency advocacy con
 ference in the country. Theme: 'Protect. Persist. Prosper.' Hundreds of co
 nsumer-controlled Independent Living Centers and disability advocates gath
 er for training\, networking\, and Capitol Hill advocacy visits.\n\nAccess
 ibility: ASL Interpretation\, CART / Live Captioning\, Wheelchair Accessib
 le Venue\, Service Animals Welcome
LAST-MODIFIED:20260423T182306Z
LOCATION:Grand Hyatt Washington\, 1000 H Street NW\, Washington\, DC 20001
STATUS:CONFIRMED
URL:https://accessevents.org/events/ncil-2026-annual-conference-on-indepen
 dent-living-20260720/
END:VEVENT
END:VCALENDAR
