BEGIN:VCALENDAR
VERSION:2.0
PRODID:-//Access Events//accessevents.org//
X-WR-CALDESC:Events from National Association of the Deaf on Access Events
X-WR-CALNAME:Access Events — National Association of the Deaf
BEGIN:VEVENT
SUMMARY:58th Biennial NAD Conference
DTSTART;TZID=America/Los_Angeles:20260630T090000
DTSTAMP:20260423T182301Z
UID:58th-biennial-nad-conference-20260630@accessevents.org
SEQUENCE:0
DESCRIPTION:The National Association of the Deaf's week-long biennial conf
 erence featuring workshops\, exhibits\, the Cultural Extravaganza with Dea
 f storytellers and performers\, the College Bowl Championship\, and the Co
 nference Bash on July 4.\n\nAccessibility: ASL Interpretation\, CART / Liv
 e Captioning\, Wheelchair Accessible Venue
LAST-MODIFIED:20260423T182301Z
LOCATION:Hilton San Francisco Union Square\, 333 O'Farrell Street\, San Fr
 ancisco\, CA 94102
STATUS:CONFIRMED
URL:https://accessevents.org/events/58th-biennial-nad-conference-20260630/
END:VEVENT
END:VCALENDAR
