BEGIN:VCALENDAR
VERSION:2.0
PRODID:-//Access Events//accessevents.org//
X-WR-CALDESC:Events from NAMI North Carolina on Access Events
X-WR-CALNAME:Access Events — NAMI North Carolina
BEGIN:VEVENT
SUMMARY:LGBTQ+ Support Group - In Person
DTSTART;TZID=America/New_York:20260825T180000
DTEND;TZID=America/New_York:20260825T193000
DTSTAMP:20260425T063507Z
UID:lgbtq-support-group-in-person-20260825@accessevents.org
SEQUENCE:0
DESCRIPTION:In partnership with the LGBT Center of Raleigh and NAMI Wake C
 ounty\, we offer a free and confidential LGBTQ+ Mental Health Support Grou
 p - in person at the LGBT Center of Raleigh.\n\nAccessibility: Wheelchair 
 Accessible Venue
LAST-MODIFIED:20260425T063507Z
LOCATION:LGBT Center of Raleigh\, 19 W Hargett St\, Suite 507\, Raleigh\, 
 NC 27601
STATUS:CONFIRMED
URL:https://accessevents.org/events/lgbtq-support-group-in-person-20260825
 /
END:VEVENT
END:VCALENDAR
