BEGIN:VCALENDAR
VERSION:2.0
PRODID:-//Access Events//accessevents.org//
X-WR-CALDESC:Events from Museum of Life and Science on Access Events
X-WR-CALNAME:Access Events — Museum of Life and Science
BEGIN:VEVENT
SUMMARY:Sensory Friendly Science Night: Under the Stars
DTSTART;TZID=America/New_York:20261004T173000
DTEND;TZID=America/New_York:20261004T203000
DTSTAMP:20260425T063507Z
UID:sensory-friendly-science-night-under-the-stars-20261004@accessevents.o
 rg
SEQUENCE:0
DESCRIPTION:Enjoy a night of adventure in the Museum’s main building in 
 a relaxed\, sensory-friendly atmosphere\, and learn more about the night s
 ky and nocturnal animals from Museum facilitators! Cool-down areas\, mater
 ials\, and visual supports will be available during your Museum exploratio
 n.\n\nAccessibility: Wheelchair Accessible Venue\, Sensory-Friendly
LAST-MODIFIED:20260425T063507Z
LOCATION:Museum of Life and Science\, 433 W. Murray Avenue\, Durham\, NC 2
 7704
STATUS:CONFIRMED
URL:https://accessevents.org/events/sensory-friendly-science-night-under-t
 he-stars-20261004/
END:VEVENT
END:VCALENDAR
