BEGIN:VCALENDAR
VERSION:2.0
PRODID:-//Access Events//accessevents.org//
X-WR-CALDESC:Events from Leadership in Disabilities & Achievement of Hawai
 i on Access Events
X-WR-CALNAME:Access Events — Leadership in Disabilities & Achievement of
  Hawaii
BEGIN:VEVENT
SUMMARY:Honolulu Families Embracing Autism Support Group
DTSTART;TZID=Pacific/Honolulu:20260520T180000
DTEND;TZID=Pacific/Honolulu:20260520T190000
DTSTAMP:20260410T002807Z
UID:honolulu-families-embracing-autism-support-group-20260521@accessevents
 .org
SEQUENCE:0
DESCRIPTION:This Honolulu autism support group meets monthly for families 
 connected to autism. The SPIN Hawaii listing shows a third-Wednesday in-pe
 rson meeting from 6:00 PM to 7:00 PM at the Harry and Jeanette Weinberg Ku
 kui Center.
LAST-MODIFIED:20260410T002807Z
LOCATION:Harry & Jeanette Weinberg Kukui Center\, 245 N Kukui Street\, Sui
 te 205\, Honolulu\, HI 96817
STATUS:CONFIRMED
URL:https://accessevents.org/events/honolulu-families-embracing-autism-sup
 port-group-20260521/
END:VEVENT
BEGIN:VEVENT
SUMMARY:Honolulu Families Embracing Autism Support Group
DTSTART;TZID=Pacific/Honolulu:20260617T180000
DTEND;TZID=Pacific/Honolulu:20260617T190000
DTSTAMP:20260423T182316Z
UID:honolulu-families-embracing-autism-support-group-20260618@accessevents
 .org
SEQUENCE:0
DESCRIPTION:This Honolulu autism support group meets monthly for families 
 connected to autism. The SPIN Hawaii listing shows a third-Wednesday in-pe
 rson meeting from 6:00 PM to 7:00 PM at the Harry and Jeanette Weinberg Ku
 kui Center.
LAST-MODIFIED:20260423T182316Z
LOCATION:Harry & Jeanette Weinberg Kukui Center\, 245 N Kukui Street\, Sui
 te 205\, Honolulu\, HI 96817
STATUS:CONFIRMED
URL:https://accessevents.org/events/honolulu-families-embracing-autism-sup
 port-group-20260618/
END:VEVENT
END:VCALENDAR
