BEGIN:VCALENDAR
VERSION:2.0
PRODID:-//Access Events//accessevents.org//
X-WR-CALDESC:Events from Houston Commission on Disabilities on Access Even
 ts
X-WR-CALNAME:Access Events — Houston Commission on Disabilities
BEGIN:VEVENT
SUMMARY:Houston Commission on Disabilities Meeting
DTSTART;TZID=America/Chicago:20260611T160000
DTEND;TZID=America/Chicago:20260611T180000
DTSTAMP:20260423T182316Z
UID:houston-commission-on-disabilities-meeting-20260611-2@accessevents.org
SEQUENCE:0
DESCRIPTION:Monthly public meeting of the Houston Commission on Disabiliti
 es\, which advises city leadership on issues affecting residents with disa
 bilities. The commission page lists the meeting schedule\, location\, and 
 public comment opportunity.\n\nContact: MOPDmail@houstontx.gov
LAST-MODIFIED:20260423T182316Z
LOCATION:Houston TranStar\, 6922 Katy Rd\, Houston\, TX 77024
STATUS:CONFIRMED
URL:https://accessevents.org/events/houston-commission-on-disabilities-mee
 ting-20260611-2/
END:VEVENT
END:VCALENDAR
