BEGIN:VCALENDAR
VERSION:2.0
PRODID:-//Access Events//accessevents.org//
X-WR-CALDESC:Events from FDR Memorial Legacy Committee on Access Events
X-WR-CALNAME:Access Events — FDR Memorial Legacy Committee
BEGIN:VEVENT
SUMMARY:25th Anniversary of the FDR Wheelchair Statue - Commemorative Even
 t & Celebration
DTSTART;TZID=America/New_York:20260513T173000
DTEND;TZID=America/New_York:20260513T193000
DTSTAMP:20260423T182306Z
UID:25th-anniversary-of-the-fdr-wheelchair-statue-commemorative-event-cele
 bration-20260513@accessevents.org
SEQUENCE:0
DESCRIPTION:Celebrating the 25th anniversary of the FDR Memorial wheelchai
 r statue\, honoring the disabled Americans who championed its inclusion. F
 eatures speakers including Jim Dickson\, Senator Tom Harkin\, James Roosev
 elt\, and a performance by disability culture icon Lachi.\n\nAccessibility
 : ASL Interpretation\, CART / Live Captioning\, Wheelchair Accessible Venu
 e
LAST-MODIFIED:20260423T182306Z
LOCATION:Franklin Delano Roosevelt Memorial\, 1850 West Basin Drive SW\, W
 ashington\, DC 20004
STATUS:CONFIRMED
URL:https://accessevents.org/events/25th-anniversary-of-the-fdr-wheelchair
 -statue-commemorative-event-celebration-20260513/
END:VEVENT
END:VCALENDAR
