BEGIN:VCALENDAR
VERSION:2.0
PRODID:-//Access Events//accessevents.org//
X-WR-CALDESC:Events from Disability:IN DC Metro on Access Events
X-WR-CALNAME:Access Events — Disability:IN DC Metro
BEGIN:VEVENT
SUMMARY:Disability:IN DC Metro 20th Anniversary - Building the Next Decade
  Together
DTSTART;TZID=America/New_York:20260505T173000
DTEND;TZID=America/New_York:20260505T200000
DTSTAMP:20260423T182306Z
UID:disabilityin-dc-metro-20th-anniversary-building-the-next-decade-togeth
 er-20260505@accessevents.org
SEQUENCE:0
DESCRIPTION:Celebrating twenty years of progress in disability inclusion i
 n the workplace. Features speakers including leaders from the World Instit
 ute on Disability and disability-owned businesses\, with a reception and p
 rogram focused on building inclusive workplaces.\n\nAccessibility: Wheelch
 air Accessible Venue
LAST-MODIFIED:20260423T182306Z
LOCATION:K&L Gates LLP\, 1601 K Street NW\, Washington\, DC 20006
STATUS:CONFIRMED
URL:https://accessevents.org/events/disabilityin-dc-metro-20th-anniversary
 -building-the-next-decade-together-20260505/
END:VEVENT
END:VCALENDAR
