BEGIN:VCALENDAR
VERSION:2.0
PRODID:-//Access Events//accessevents.org//
X-WR-CALDESC:Events from DC Developmental Disabilities Council on Access E
 vents
X-WR-CALNAME:Access Events — DC Developmental Disabilities Council
BEGIN:VEVENT
SUMMARY:DC Developmental Disabilities Council Quarterly Public Meeting
DTSTART;TZID=America/New_York:20260618T150000
DTEND;TZID=America/New_York:20260618T170000
DTSTAMP:20260423T182306Z
UID:dc-developmental-disabilities-council-quarterly-public-meeting-2026061
 8@accessevents.org
SEQUENCE:0
DESCRIPTION:Quarterly public meeting of the DC Developmental Disabilities 
 Council. Open to the public. Pre-meeting session from 2:00-2:45pm. Availab
 le in-person or via Zoom.\n\nAccessibility: Wheelchair Accessible Venue\, 
 Remote / Virtual Attendance Option
LAST-MODIFIED:20260423T182306Z
LOCATION:One Judiciary Square\, 441 4th Street NW\, Room 1114\, Washington
 \, DC 20001
STATUS:CONFIRMED
URL:https://accessevents.org/events/dc-developmental-disabilities-council-
 quarterly-public-meeting-20260618/
END:VEVENT
END:VCALENDAR
