BEGIN:VCALENDAR
VERSION:2.0
PRODID:-//Access Events//accessevents.org//
X-WR-CALDESC:Events from City of Raleigh on Access Events
X-WR-CALNAME:Access Events — City of Raleigh
BEGIN:VEVENT
SUMMARY:Raleigh Commission for Persons with Disabilities Meeting - May 202
 6
DTSTART;TZID=America/New_York:20260521T120000
DTEND;TZID=America/New_York:20260521T133000
DTSTAMP:20260425T063507Z
UID:raleigh-commission-for-persons-with-disabilities-meeting-may-2026-2026
 0521@accessevents.org
SEQUENCE:0
DESCRIPTION:The Raleigh Commission for Persons with Disabilities addresses
  the needs of people with disabilities and their families in the City of R
 aleigh. View the meeting agenda and minutes on BoardDocs.\n\nAccessibility
 : Wheelchair Accessible Venue\n\nContact: esa.boardcommissions@raleighnc.g
 ov
LAST-MODIFIED:20260425T063507Z
LOCATION:Raleigh Pathways Center\, 900 S. Wilmington Street\, Raleigh\, NC
  27601
STATUS:CONFIRMED
URL:https://accessevents.org/events/raleigh-commission-for-persons-with-di
 sabilities-meeting-may-2026-20260521/
END:VEVENT
END:VCALENDAR
