BEGIN:VCALENDAR
VERSION:2.0
PRODID:-//Access Events//accessevents.org//
X-WR-CALDESC:Events from Best Buddies Virginia & DC on Access Events
X-WR-CALNAME:Access Events — Best Buddies Virginia & DC
BEGIN:VEVENT
SUMMARY:Best Buddies Friendship Walk
DTSTART;TZID=America/New_York:20260425T083000
DTEND;TZID=America/New_York:20260425T130000
DTSTAMP:20260423T182306Z
UID:best-buddies-friendship-walk-20260425@accessevents.org
SEQUENCE:0
DESCRIPTION:An inclusive community gathering on the National Mall bringing
  together approximately 2\,000 participants with live music\, interactive 
 booths\, community speakers\, and a walk to raise awareness and support fo
 r individuals with intellectual and developmental disabilities.\n\nAccessi
 bility: Wheelchair Accessible Venue\, Service Animals Welcome
LAST-MODIFIED:20260423T182306Z
LOCATION:National Mall\, National Mall\, Washington\, DC 20001
STATUS:CONFIRMED
URL:https://accessevents.org/events/best-buddies-friendship-walk-20260425/
END:VEVENT
END:VCALENDAR
