BEGIN:VCALENDAR
VERSION:2.0
PRODID:-//Access Events//accessevents.org//
X-WR-CALDESC:Events from Bay Area Association of Disabled Sailors on Acces
 s Events
X-WR-CALNAME:Access Events — Bay Area Association of Disabled Sailors
BEGIN:VEVENT
SUMMARY:BAADS Small Boat Sailing
DTSTART;TZID=America/Los_Angeles:20260425T100000
DTSTAMP:20260423T182316Z
UID:baads-small-boat-sailing-20260425-2@accessevents.org
SEQUENCE:0
DESCRIPTION:Adaptive sailing program for people with any degree of disabil
 ity at any level of sailing ability. Sign up by Thursday at 3 PM before ea
 ch Saturday sail day. Experienced volunteers are paired with sailors based
  on individual needs.\n\nAccessibility: Wheelchair Accessible Venue
LAST-MODIFIED:20260423T182316Z
LOCATION:South Beach Harbor\, Pier 40\, Pier 40\, The Embarcadero\, San Fr
 ancisco\, CA 94107
STATUS:CONFIRMED
URL:https://accessevents.org/events/baads-small-boat-sailing-20260425-2/
END:VEVENT
BEGIN:VEVENT
SUMMARY:BAADS Small Boat Sailing
DTSTART;TZID=America/Los_Angeles:20260502T100000
DTSTAMP:20260423T182316Z
UID:baads-small-boat-sailing-20260502@accessevents.org
SEQUENCE:0
DESCRIPTION:Adaptive sailing program for people with any degree of disabil
 ity at any level of sailing ability. Sign up by Thursday at 3 PM before ea
 ch Saturday sail day. Experienced volunteers are paired with sailors based
  on individual needs.\n\nAccessibility: Wheelchair Accessible Venue
LAST-MODIFIED:20260423T182316Z
LOCATION:South Beach Harbor\, Pier 40\, Pier 40\, The Embarcadero\, San Fr
 ancisco\, CA 94107
STATUS:CONFIRMED
URL:https://accessevents.org/events/baads-small-boat-sailing-20260502/
END:VEVENT
BEGIN:VEVENT
SUMMARY:BAADS Small Boat Sailing
DTSTART;TZID=America/Los_Angeles:20260509T100000
DTSTAMP:20260423T182316Z
UID:baads-small-boat-sailing-20260509@accessevents.org
SEQUENCE:0
DESCRIPTION:Adaptive sailing program for people with any degree of disabil
 ity at any level of sailing ability. Sign up by Thursday at 3 PM before ea
 ch Saturday sail day. Experienced volunteers are paired with sailors based
  on individual needs.\n\nAccessibility: Wheelchair Accessible Venue
LAST-MODIFIED:20260423T182316Z
LOCATION:South Beach Harbor\, Pier 40\, Pier 40\, The Embarcadero\, San Fr
 ancisco\, CA 94107
STATUS:CONFIRMED
URL:https://accessevents.org/events/baads-small-boat-sailing-20260509/
END:VEVENT
BEGIN:VEVENT
SUMMARY:BAADS Small Boat Sailing
DTSTART;TZID=America/Los_Angeles:20260516T100000
DTSTAMP:20260423T182316Z
UID:baads-small-boat-sailing-20260516@accessevents.org
SEQUENCE:0
DESCRIPTION:Adaptive sailing program for people with any degree of disabil
 ity at any level of sailing ability. Sign up by Thursday at 3 PM before ea
 ch Saturday sail day. Experienced volunteers are paired with sailors based
  on individual needs.\n\nAccessibility: Wheelchair Accessible Venue
LAST-MODIFIED:20260423T182316Z
LOCATION:South Beach Harbor\, Pier 40\, Pier 40\, The Embarcadero\, San Fr
 ancisco\, CA 94107
STATUS:CONFIRMED
URL:https://accessevents.org/events/baads-small-boat-sailing-20260516/
END:VEVENT
BEGIN:VEVENT
SUMMARY:BAADS Small Boat Sailing
DTSTART;TZID=America/Los_Angeles:20260523T100000
DTSTAMP:20260423T182316Z
UID:baads-small-boat-sailing-20260523@accessevents.org
SEQUENCE:0
DESCRIPTION:Adaptive sailing program for people with any degree of disabil
 ity at any level of sailing ability. Sign up by Thursday at 3 PM before ea
 ch Saturday sail day. Experienced volunteers are paired with sailors based
  on individual needs.\n\nAccessibility: Wheelchair Accessible Venue
LAST-MODIFIED:20260423T182316Z
LOCATION:South Beach Harbor\, Pier 40\, Pier 40\, The Embarcadero\, San Fr
 ancisco\, CA 94107
STATUS:CONFIRMED
URL:https://accessevents.org/events/baads-small-boat-sailing-20260523/
END:VEVENT
BEGIN:VEVENT
SUMMARY:BAADS Small Boat Sailing
DTSTART;TZID=America/Los_Angeles:20260530T100000
DTSTAMP:20260423T182316Z
UID:baads-small-boat-sailing-20260530@accessevents.org
SEQUENCE:0
DESCRIPTION:Adaptive sailing program for people with any degree of disabil
 ity at any level of sailing ability. Sign up by Thursday at 3 PM before ea
 ch Saturday sail day. Experienced volunteers are paired with sailors based
  on individual needs.\n\nAccessibility: Wheelchair Accessible Venue
LAST-MODIFIED:20260423T182316Z
LOCATION:South Beach Harbor\, Pier 40\, Pier 40\, The Embarcadero\, San Fr
 ancisco\, CA 94107
STATUS:CONFIRMED
URL:https://accessevents.org/events/baads-small-boat-sailing-20260530/
END:VEVENT
BEGIN:VEVENT
SUMMARY:BAADS Small Boat Sailing
DTSTART;TZID=America/Los_Angeles:20260606T100000
DTSTAMP:20260423T182316Z
UID:baads-small-boat-sailing-20260606@accessevents.org
SEQUENCE:0
DESCRIPTION:Adaptive sailing program for people with any degree of disabil
 ity at any level of sailing ability. Sign up by Thursday at 3 PM before ea
 ch Saturday sail day. Experienced volunteers are paired with sailors based
  on individual needs.\n\nAccessibility: Wheelchair Accessible Venue
LAST-MODIFIED:20260423T182316Z
LOCATION:South Beach Harbor\, Pier 40\, Pier 40\, The Embarcadero\, San Fr
 ancisco\, CA 94107
STATUS:CONFIRMED
URL:https://accessevents.org/events/baads-small-boat-sailing-20260606/
END:VEVENT
BEGIN:VEVENT
SUMMARY:BAADS Small Boat Sailing
DTSTART;TZID=America/Los_Angeles:20260613T100000
DTSTAMP:20260423T182316Z
UID:baads-small-boat-sailing-20260613@accessevents.org
SEQUENCE:0
DESCRIPTION:Adaptive sailing program for people with any degree of disabil
 ity at any level of sailing ability. Sign up by Thursday at 3 PM before ea
 ch Saturday sail day. Experienced volunteers are paired with sailors based
  on individual needs.\n\nAccessibility: Wheelchair Accessible Venue
LAST-MODIFIED:20260423T182316Z
LOCATION:South Beach Harbor\, Pier 40\, Pier 40\, The Embarcadero\, San Fr
 ancisco\, CA 94107
STATUS:CONFIRMED
URL:https://accessevents.org/events/baads-small-boat-sailing-20260613/
END:VEVENT
END:VCALENDAR
