BEGIN:VCALENDAR
VERSION:2.0
PRODID:-//Access Events//accessevents.org//
X-WR-CALDESC:Events from Achilles International San Francisco Bay Area on 
 Access Events
X-WR-CALNAME:Access Events — Achilles International San Francisco Bay Ar
 ea
BEGIN:VEVENT
SUMMARY:Achilles SF Bay Area Weekend Workout
DTSTART;TZID=America/Los_Angeles:20260502T093000
DTSTAMP:20260423T182316Z
UID:achilles-sf-bay-area-weekend-workout-20260502@accessevents.org
SEQUENCE:0
DESCRIPTION:Guided running and walking workouts for athletes with all type
 s of disabilities\, paired with volunteer guides. Sessions rotate between 
 Crissy Field and Ocean Beach in San Francisco\, meeting 2-3 times per mont
 h at 9:30 AM on weekends.\n\nAccessibility: Wheelchair Accessible Venue\, 
 Service Animals Welcome
LAST-MODIFIED:20260423T182316Z
LOCATION:Crissy Field / Ocean Beach (rotating)\, San Francisco\, CA
STATUS:CONFIRMED
URL:https://accessevents.org/events/achilles-sf-bay-area-weekend-workout-2
 0260502/
END:VEVENT
BEGIN:VEVENT
SUMMARY:Achilles SF Bay Area Weekend Workout
DTSTART;TZID=America/Los_Angeles:20260503T093000
DTSTAMP:20260423T182316Z
UID:achilles-sf-bay-area-weekend-workout-20260503@accessevents.org
SEQUENCE:0
DESCRIPTION:Guided running and walking workouts for athletes with all type
 s of disabilities\, paired with volunteer guides. Sessions rotate between 
 Crissy Field and Ocean Beach in San Francisco\, meeting 2-3 times per mont
 h at 9:30 AM on weekends.\n\nAccessibility: Wheelchair Accessible Venue\, 
 Service Animals Welcome
LAST-MODIFIED:20260423T182316Z
LOCATION:Crissy Field / Ocean Beach (rotating)\, San Francisco\, CA
STATUS:CONFIRMED
URL:https://accessevents.org/events/achilles-sf-bay-area-weekend-workout-2
 0260503/
END:VEVENT
BEGIN:VEVENT
SUMMARY:Achilles SF Bay Area Weekend Workout
DTSTART;TZID=America/Los_Angeles:20260509T093000
DTSTAMP:20260423T182316Z
UID:achilles-sf-bay-area-weekend-workout-20260509@accessevents.org
SEQUENCE:0
DESCRIPTION:Guided running and walking workouts for athletes with all type
 s of disabilities\, paired with volunteer guides. Sessions rotate between 
 Crissy Field and Ocean Beach in San Francisco\, meeting 2-3 times per mont
 h at 9:30 AM on weekends.\n\nAccessibility: Wheelchair Accessible Venue\, 
 Service Animals Welcome
LAST-MODIFIED:20260423T182316Z
LOCATION:Crissy Field / Ocean Beach (rotating)\, San Francisco\, CA
STATUS:CONFIRMED
URL:https://accessevents.org/events/achilles-sf-bay-area-weekend-workout-2
 0260509/
END:VEVENT
BEGIN:VEVENT
SUMMARY:Achilles SF Bay Area Weekend Workout
DTSTART;TZID=America/Los_Angeles:20260510T093000
DTSTAMP:20260423T182316Z
UID:achilles-sf-bay-area-weekend-workout-20260510@accessevents.org
SEQUENCE:0
DESCRIPTION:Guided running and walking workouts for athletes with all type
 s of disabilities\, paired with volunteer guides. Sessions rotate between 
 Crissy Field and Ocean Beach in San Francisco\, meeting 2-3 times per mont
 h at 9:30 AM on weekends.\n\nAccessibility: Wheelchair Accessible Venue\, 
 Service Animals Welcome
LAST-MODIFIED:20260423T182316Z
LOCATION:Crissy Field / Ocean Beach (rotating)\, San Francisco\, CA
STATUS:CONFIRMED
URL:https://accessevents.org/events/achilles-sf-bay-area-weekend-workout-2
 0260510/
END:VEVENT
BEGIN:VEVENT
SUMMARY:Achilles SF Bay Area Weekend Workout
DTSTART;TZID=America/Los_Angeles:20260516T093000
DTSTAMP:20260423T182316Z
UID:achilles-sf-bay-area-weekend-workout-20260516@accessevents.org
SEQUENCE:0
DESCRIPTION:Guided running and walking workouts for athletes with all type
 s of disabilities\, paired with volunteer guides. Sessions rotate between 
 Crissy Field and Ocean Beach in San Francisco\, meeting 2-3 times per mont
 h at 9:30 AM on weekends.\n\nAccessibility: Wheelchair Accessible Venue\, 
 Service Animals Welcome
LAST-MODIFIED:20260423T182316Z
LOCATION:Crissy Field / Ocean Beach (rotating)\, San Francisco\, CA
STATUS:CONFIRMED
URL:https://accessevents.org/events/achilles-sf-bay-area-weekend-workout-2
 0260516/
END:VEVENT
BEGIN:VEVENT
SUMMARY:Achilles SF Bay Area Weekend Workout
DTSTART;TZID=America/Los_Angeles:20260517T093000
DTSTAMP:20260423T182316Z
UID:achilles-sf-bay-area-weekend-workout-20260517@accessevents.org
SEQUENCE:0
DESCRIPTION:Guided running and walking workouts for athletes with all type
 s of disabilities\, paired with volunteer guides. Sessions rotate between 
 Crissy Field and Ocean Beach in San Francisco\, meeting 2-3 times per mont
 h at 9:30 AM on weekends.\n\nAccessibility: Wheelchair Accessible Venue\, 
 Service Animals Welcome
LAST-MODIFIED:20260423T182316Z
LOCATION:Crissy Field / Ocean Beach (rotating)\, San Francisco\, CA
STATUS:CONFIRMED
URL:https://accessevents.org/events/achilles-sf-bay-area-weekend-workout-2
 0260517/
END:VEVENT
BEGIN:VEVENT
SUMMARY:Achilles SF Bay Area Weekend Workout
DTSTART;TZID=America/Los_Angeles:20260606T093000
DTSTAMP:20260423T182316Z
UID:achilles-sf-bay-area-weekend-workout-20260606@accessevents.org
SEQUENCE:0
DESCRIPTION:Guided running and walking workouts for athletes with all type
 s of disabilities\, paired with volunteer guides. Sessions rotate between 
 Crissy Field and Ocean Beach in San Francisco\, meeting 2-3 times per mont
 h at 9:30 AM on weekends.\n\nAccessibility: Wheelchair Accessible Venue\, 
 Service Animals Welcome
LAST-MODIFIED:20260423T182316Z
LOCATION:Crissy Field / Ocean Beach (rotating)\, San Francisco\, CA
STATUS:CONFIRMED
URL:https://accessevents.org/events/achilles-sf-bay-area-weekend-workout-2
 0260606/
END:VEVENT
BEGIN:VEVENT
SUMMARY:Achilles SF Bay Area Weekend Workout
DTSTART;TZID=America/Los_Angeles:20260607T093000
DTSTAMP:20260423T182316Z
UID:achilles-sf-bay-area-weekend-workout-20260607@accessevents.org
SEQUENCE:0
DESCRIPTION:Guided running and walking workouts for athletes with all type
 s of disabilities\, paired with volunteer guides. Sessions rotate between 
 Crissy Field and Ocean Beach in San Francisco\, meeting 2-3 times per mont
 h at 9:30 AM on weekends.\n\nAccessibility: Wheelchair Accessible Venue\, 
 Service Animals Welcome
LAST-MODIFIED:20260423T182316Z
LOCATION:Crissy Field / Ocean Beach (rotating)\, San Francisco\, CA
STATUS:CONFIRMED
URL:https://accessevents.org/events/achilles-sf-bay-area-weekend-workout-2
 0260607/
END:VEVENT
BEGIN:VEVENT
SUMMARY:Achilles SF Bay Area Weekend Workout
DTSTART;TZID=America/Los_Angeles:20260613T093000
DTSTAMP:20260423T182316Z
UID:achilles-sf-bay-area-weekend-workout-20260613@accessevents.org
SEQUENCE:0
DESCRIPTION:Guided running and walking workouts for athletes with all type
 s of disabilities\, paired with volunteer guides. Sessions rotate between 
 Crissy Field and Ocean Beach in San Francisco\, meeting 2-3 times per mont
 h at 9:30 AM on weekends.\n\nAccessibility: Wheelchair Accessible Venue\, 
 Service Animals Welcome
LAST-MODIFIED:20260423T182316Z
LOCATION:Crissy Field / Ocean Beach (rotating)\, San Francisco\, CA
STATUS:CONFIRMED
URL:https://accessevents.org/events/achilles-sf-bay-area-weekend-workout-2
 0260613/
END:VEVENT
BEGIN:VEVENT
SUMMARY:Achilles SF Bay Area Weekend Workout
DTSTART;TZID=America/Los_Angeles:20260614T093000
DTSTAMP:20260423T182316Z
UID:achilles-sf-bay-area-weekend-workout-20260614@accessevents.org
SEQUENCE:0
DESCRIPTION:Guided running and walking workouts for athletes with all type
 s of disabilities\, paired with volunteer guides. Sessions rotate between 
 Crissy Field and Ocean Beach in San Francisco\, meeting 2-3 times per mont
 h at 9:30 AM on weekends.\n\nAccessibility: Wheelchair Accessible Venue\, 
 Service Animals Welcome
LAST-MODIFIED:20260423T182316Z
LOCATION:Crissy Field / Ocean Beach (rotating)\, San Francisco\, CA
STATUS:CONFIRMED
URL:https://accessevents.org/events/achilles-sf-bay-area-weekend-workout-2
 0260614/
END:VEVENT
END:VCALENDAR
