BEGIN:VCALENDAR
VERSION:2.0
PRODID:-//Access Events//accessevents.org//
BEGIN:VEVENT
SUMMARY:The Artist in All 2026
DTSTART;TZID=America/Chicago:20260520T180000
DTEND;TZID=America/Chicago:20260520T210000
DTSTAMP:20260425T063454Z
UID:the-artist-in-all-2026-20260520@accessevents.org
SEQUENCE:0
DESCRIPTION:The Artist in All is a benevolent event for Misericordia\, fea
 turing artwork created by talented Misericordia resident artists with assi
 stance of dedicated staff and volunteers. Each reservation includes admiss
 ion\, drinks and hors d'oeuvres.\n\nAccessibility: Wheelchair Accessible V
 enue
LAST-MODIFIED:20260425T063454Z
LOCATION:Modern Wing of the Art Institute of Chicago\, 159 East Monroe Str
 eet\, Chicago\, IL 60603
STATUS:CONFIRMED
URL:https://accessevents.org/events/the-artist-in-all-2026-20260520/
END:VEVENT
END:VCALENDAR
