BEGIN:VCALENDAR
VERSION:2.0
PRODID:-//Access Events//accessevents.org//
BEGIN:VEVENT
SUMMARY:Teen & Adult Cooking Series - Build Skills for Life
DTSTART;TZID=America/Los_Angeles:20260509T000000
DTSTAMP:20260425T063458Z
UID:teen-adult-cooking-series-build-skills-for-life-20260509@accessevents.
 org
SEQUENCE:0
DESCRIPTION:Teen & Adult Cooking Series - Build Skills for Life\n\nContact
 : info@featsonv.org
LAST-MODIFIED:20260425T063458Z
LOCATION:UNR Coop\, 8050 Paradise Rd\, Las Vegas\, NV 89123
STATUS:CONFIRMED
URL:https://accessevents.org/events/teen-adult-cooking-series-build-skills
 -for-life-20260509/
END:VEVENT
END:VCALENDAR
