BEGIN:VCALENDAR
VERSION:2.0
PRODID:-//Access Events//accessevents.org//
BEGIN:VEVENT
SUMMARY:Sunshine Sunday - Sensory-Friendly Morning at Glazer Children's Mu
 seum
DTSTART;TZID=America/New_York:20260426T080000
DTEND;TZID=America/New_York:20260426T100000
DTSTAMP:20260426T000509Z
UID:sunshine-sunday-sensory-friendly-morning-at-glazer-childrens-museum-20
 260426@accessevents.org
SEQUENCE:0
DESCRIPTION:Sunshine Sunday at Glazer Children's Museum is a monthly senso
 ry-friendly morning for children with sensory sensitivities and their fami
 lies. Lights and sounds are turned down\, sensory-adapted tools are availa
 ble\, and special programs and community resources are on hand. Glazer is 
 a Certified Autism Center and an Autism Friendly Business certified by CAR
 D-USF.\n\nAccessibility: Wheelchair Accessible Venue\, Sensory-Friendly\n\
 nContact: education@glazermuseum.org
LAST-MODIFIED:20260426T000509Z
LOCATION:Glazer Children's Museum\, 110 W Gasparilla Plaza\, Tampa\, FL 33
 602
STATUS:CONFIRMED
URL:https://accessevents.org/events/sunshine-sunday-sensory-friendly-morni
 ng-at-glazer-childrens-museum-20260426/
END:VEVENT
END:VCALENDAR
