BEGIN:VCALENDAR
VERSION:2.0
PRODID:-//Access Events//accessevents.org//
BEGIN:VEVENT
SUMMARY:South People with PD & Care Partners Support Group
DTSTART;TZID=America/Chicago:20260615T143000
DTEND;TZID=America/Chicago:20260615T153000
DTSTAMP:20260423T182316Z
UID:south-people-with-pd-care-partners-support-group-20260615@accessevents
 .org
SEQUENCE:0
DESCRIPTION:Monthly CAPS support group for people with Parkinson's disease
  and care partners in South Austin. CAPS says separate groups run at the s
 ame time so participants can share experiences and coping strategies.\n\nC
 ontact: info@capitalareaparkinsons.org
LAST-MODIFIED:20260423T182316Z
LOCATION:Encompass Rehab Hospital South (South Conf Room)\, 330 Ben White 
 Blvd\, Austin\, TX 78704
STATUS:CONFIRMED
URL:https://accessevents.org/events/south-people-with-pd-care-partners-sup
 port-group-20260615/
END:VEVENT
END:VCALENDAR
