BEGIN:VCALENDAR
VERSION:2.0
PRODID:-//Access Events//accessevents.org//
BEGIN:VEVENT
SUMMARY:So Kids SOAR 2026 Prom (BAILE) - Magical Menagerie
DTSTART;TZID=America/New_York:20260515T180000
DTEND;TZID=America/New_York:20260515T210000
DTSTAMP:20260423T182306Z
UID:so-kids-soar-2026-prom-baile-magical-menagerie-20260515@accessevents.o
 rg
SEQUENCE:0
DESCRIPTION:An inclusive prom for youth ages 4-24 with physical and develo
 pmental disabilities\, hosted at St. Albans School. Each participant is pa
 ired with a volunteer buddy. Completely free to attend.\n\nAccessibility: 
 Wheelchair Accessible Venue\, Service Animals Welcome
LAST-MODIFIED:20260423T182306Z
LOCATION:St. Albans School\, 3101 Wisconsin Avenue NW\, Washington\, DC 20
 016
STATUS:CONFIRMED
URL:https://accessevents.org/events/so-kids-soar-2026-prom-baile-magical-m
 enagerie-20260515/
END:VEVENT
END:VCALENDAR
