BEGIN:VCALENDAR
VERSION:2.0
PRODID:-//Access Events//accessevents.org//
BEGIN:VEVENT
SUMMARY:SNCIL Housing 101 Workshop - June Morning
DTSTART;TZID=America/Los_Angeles:20260618T090000
DTEND;TZID=America/Los_Angeles:20260618T110000
DTSTAMP:20260425T063458Z
UID:sncil-housing-101-workshop-june-morning-20260618@accessevents.org
SEQUENCE:0
DESCRIPTION:Don’t miss our monthly housing class for current and new SNC
 IL consumers! Learn about your rights and everything you need to know abou
 t housing in Southern Nevada. Please contact us at 702-889-4216 to registe
 r. Space is limited and will only accommodate four registrations per sessi
 on.\n\nContact: sncil@sncil.org
LAST-MODIFIED:20260425T063458Z
LOCATION:Southern Nevada Center for Independent Living\, 2950 S. Rainbow B
 lvd\, Suite 220\, Las Vegas\, NV 89146
STATUS:CONFIRMED
URL:https://accessevents.org/events/sncil-housing-101-workshop-june-mornin
 g-20260618/
END:VEVENT
END:VCALENDAR
