BEGIN:VCALENDAR
VERSION:2.0
PRODID:-//Access Events//accessevents.org//
BEGIN:VEVENT
SUMMARY:Smuin Ballet: Future Forward (ASL Interpreted Performance)
DTSTART;TZID=America/Los_Angeles:20260424T193000
DTSTAMP:20260423T182301Z
UID:smuin-ballet-future-forward-asl-interpreted-performance-20260424@acces
 sevents.org
SEQUENCE:0
DESCRIPTION:ASL interpreted performance of Smuin Contemporary Ballet's Fut
 ure Forward program at Cowell Theater\, Fort Mason Center for Arts & Cultu
 re.\n\nAccessibility: ASL Interpretation\, Wheelchair Accessible Venue
LAST-MODIFIED:20260423T182301Z
LOCATION:Cowell Theater at Fort Mason Center for Arts & Culture\, 2 Marina
  Blvd Suite 260\, San Francisco\, CA 94123
STATUS:CONFIRMED
URL:https://accessevents.org/events/smuin-ballet-future-forward-asl-interp
 reted-performance-20260424/
END:VEVENT
END:VCALENDAR
