BEGIN:VCALENDAR
VERSION:2.0
PRODID:-//Access Events//accessevents.org//
BEGIN:VEVENT
SUMMARY:SF Pride Parade & Celebration
DTSTART;TZID=America/Los_Angeles:20260627T110000
DTSTAMP:20260423T182301Z
UID:sf-pride-parade-celebration-20260627@accessevents.org
SEQUENCE:0
DESCRIPTION:The 56th annual San Francisco Pride Celebration and Parade at 
 Civic Center. Celebration on Saturday and Sunday 11am-6pm\; Parade on Sund
 ay June 28 at 10:30am. Dedicated wheelchair viewing section\, ADA-accessib
 le entrances\, ASL interpretation at Main Stage.\n\nAccessibility: ASL Int
 erpretation\, Wheelchair Accessible Venue\, Accessible Parking
LAST-MODIFIED:20260423T182301Z
LOCATION:Civic Center Plaza\, Civic Center\, San Francisco\, CA
STATUS:CONFIRMED
URL:https://accessevents.org/events/sf-pride-parade-celebration-20260627/
END:VEVENT
END:VCALENDAR
