BEGIN:VCALENDAR
VERSION:2.0
PRODID:-//Access Events//accessevents.org//
BEGIN:VEVENT
SUMMARY:Sensory Friendly Mornings - July
DTSTART;TZID=America/Chicago:20260725T080000
DTEND;TZID=America/Chicago:20260725T120000
DTSTAMP:20260425T063502Z
UID:sensory-friendly-mornings-july-20260725@accessevents.org
SEQUENCE:0
DESCRIPTION:Sensory Friendly Mornings are for individuals of all ages with
  special needs and their families to enjoy early access to the Museum with
  modifications to make the experience more sensory friendly.\n\nAccessibil
 ity: Sensory-Friendly\n\nContact: info@nationalww2museum.org
LAST-MODIFIED:20260425T063502Z
LOCATION:The National WWII Museum\, 945 Magazine Street\, New Orleans\, LA
  70130
STATUS:CONFIRMED
URL:https://accessevents.org/events/sensory-friendly-mornings-july-2026072
 5/
END:VEVENT
END:VCALENDAR
