BEGIN:VCALENDAR
VERSION:2.0
PRODID:-//Access Events//accessevents.org//
BEGIN:VEVENT
SUMMARY:Sensory-Friendly Film Screening: Happiest Place on Earth
DTSTART;TZID=America/Los_Angeles:20260620T110000
DTSTAMP:20260425T063511Z
UID:sensory-friendly-film-screening-happiest-place-on-earth-20260620@acces
 sevents.org
SEQUENCE:0
DESCRIPTION:Sensory-friendly screening of the featurette tracing Disneylan
 d's creation through Walt Disney's vision. Lights dimmed instead of off\, 
 volume lowered\, and closed captioning available on request. Guests are we
 lcome to move around freely.\n\nAccessibility: Wheelchair Accessible Venue
 \, Sensory-Friendly
LAST-MODIFIED:20260425T063511Z
LOCATION:The Walt Disney Family Museum\, 104 Montgomery Street\, The Presi
 dio\, San Francisco\, CA 94129
STATUS:CONFIRMED
URL:https://accessevents.org/events/sensory-friendly-film-screening-happie
 st-place-on-earth-20260620/
END:VEVENT
END:VCALENDAR
