BEGIN:VCALENDAR
VERSION:2.0
PRODID:-//Access Events//accessevents.org//
BEGIN:VEVENT
SUMMARY:SCI BC: The Road Ahead - Summer Recreation Webinar
DTSTART;TZID=America/Vancouver:20260428T000000
DTSTAMP:20260426T000552Z
UID:sci-bc-the-road-ahead-summer-recreation-webinar-20260428@accessevents.
 org
SEQUENCE:0
DESCRIPTION:A free online webinar exploring accessible recreation opportun
 ities for people living and aging with spinal cord injury. Led by SCI BC's
  Duncan Campbell\, the session covers summer programs and how to stay acti
 ve with an SCI. Open to SCI BC peers and families across BC.\n\nAccessibil
 ity: Remote / Virtual Attendance Option\n\nContact: rbitz@sci-bc.ca
LAST-MODIFIED:20260426T000552Z
STATUS:CONFIRMED
URL:https://accessevents.org/events/sci-bc-the-road-ahead-summer-recreatio
 n-webinar-20260428/
END:VEVENT
END:VCALENDAR
