BEGIN:VCALENDAR
VERSION:2.0
PRODID:-//Access Events//accessevents.org//
BEGIN:VEVENT
SUMMARY:Revolution Ride\, Roll & Stroll
DTSTART;TZID=America/Los_Angeles:20260503T090000
DTSTAMP:20260423T182301Z
UID:revolution-ride-roll-stroll-20260503@accessevents.org
SEQUENCE:0
DESCRIPTION:BORP's largest annual fundraiser where participants roll\, str
 oll\, or ride using handcycles\, tandems\, two-wheelers\, or sports chairs
 . Every dollar raised supports BORP's adaptive sports\, fitness\, and recr
 eation programs.\n\nAccessibility: Wheelchair Accessible Venue\, Accessibl
 e Parking
LAST-MODIFIED:20260423T182301Z
LOCATION:Mill Valley Community Center\, Mill Valley\, CA
STATUS:CONFIRMED
URL:https://accessevents.org/events/revolution-ride-roll-stroll-20260503/
END:VEVENT
END:VCALENDAR
