BEGIN:VCALENDAR
VERSION:2.0
PRODID:-//Access Events//accessevents.org//
BEGIN:VEVENT
SUMMARY:Parkinson's Health Education Meeting
DTSTART;TZID=America/Chicago:20260618T120000
DTEND;TZID=America/Chicago:20260618T133000
DTSTAMP:20260423T182316Z
UID:parkinsons-health-education-meeting-20260618@accessevents.org
SEQUENCE:0
DESCRIPTION:Monthly education meeting from CAPS and partner organizations 
 covering healthcare topics related to Parkinson's disease. CAPS says lunch
  is provided and the meeting is open to everyone with RSVP encouraged.\n\n
 Contact: info@capitalareaparkinsons.org
LAST-MODIFIED:20260423T182316Z
LOCATION:Central Texas Rehabilitation Hospital\, 700 W. 45th Street\, Aust
 in\, TX 78751
STATUS:CONFIRMED
URL:https://accessevents.org/events/parkinsons-health-education-meeting-20
 260618/
END:VEVENT
END:VCALENDAR
