BEGIN:VCALENDAR
VERSION:2.0
PRODID:-//Access Events//accessevents.org//
BEGIN:VEVENT
SUMMARY:NFB Greater Washington DC Chapter Meeting
DTSTART;TZID=America/New_York:20260509T130000
DTEND;TZID=America/New_York:20260509T150000
DTSTAMP:20260423T182316Z
UID:nfb-greater-washington-dc-chapter-meeting-20260509-2@accessevents.org
SEQUENCE:0
DESCRIPTION:Monthly meeting of the Greater Washington DC Chapter of the Na
 tional Federation of the Blind. Open to blind and low vision individuals\,
  families\, and allies.\n\nAccessibility: Service Animals Welcome
LAST-MODIFIED:20260423T182316Z
LOCATION:Contact chapter for location\, Washington\, DC
STATUS:CONFIRMED
URL:https://accessevents.org/events/nfb-greater-washington-dc-chapter-meet
 ing-20260509-2/
END:VEVENT
END:VCALENDAR
