BEGIN:VCALENDAR
VERSION:2.0
PRODID:-//Access Events//accessevents.org//
BEGIN:VEVENT
SUMMARY:National Federation of the Blind of Texas - San Antonio Chapter Me
 eting
DTSTART;TZID=America/Chicago:20260620T110000
DTSTAMP:20260425T063511Z
UID:national-federation-of-the-blind-of-texas-san-antonio-chapter-meeting-
 20260620@accessevents.org
SEQUENCE:0
DESCRIPTION:The NFBTX San Antonio Chapter meets on the third Saturday of e
 ach month at BiblioTech EDU. The chapter page says meetings run from 11 a.
 m. to 1 p.m. and often include social time\, guest speakers\, and local bl
 indness issues.
LAST-MODIFIED:20260425T063511Z
LOCATION:BiblioTech EDU (connected to FoxTech High School)\, 626 North Flo
 res St.\, San Antonio\, TX 78205
STATUS:CONFIRMED
URL:https://accessevents.org/events/national-federation-of-the-blind-of-te
 xas-san-antonio-chapter-meeting-20260620/
END:VEVENT
END:VCALENDAR
