BEGIN:VCALENDAR
VERSION:2.0
PRODID:-//Access Events//accessevents.org//
BEGIN:VEVENT
SUMMARY:Mayor's Committee for People with Disabilities
DTSTART;TZID=America/Chicago:20260612T173000
DTSTAMP:20260423T182316Z
UID:mayors-committee-for-people-with-disabilities-20260612@accessevents.or
 g
SEQUENCE:0
DESCRIPTION:Monthly advisory committee meeting for disability issues in Au
 stin. The committee page lists the meeting schedule\, location\, and the C
 ity Hall boards and commissions room.
LAST-MODIFIED:20260423T182316Z
LOCATION:Austin City Hall\, Boards & Commissions Room 1101\, 301 W 2nd St\
 , Austin\, TX 78701
STATUS:CONFIRMED
URL:https://accessevents.org/events/mayors-committee-for-people-with-disab
 ilities-20260612/
END:VEVENT
END:VCALENDAR
