BEGIN:VCALENDAR
VERSION:2.0
PRODID:-//Access Events//accessevents.org//
BEGIN:VEVENT
SUMMARY:May Mental Health Month Community Forum
DTSTART;TZID=America/Chicago:20260506T110000
DTEND;TZID=America/Chicago:20260506T123000
DTSTAMP:20260425T063445Z
UID:may-mental-health-month-community-forum-20260506@accessevents.org
SEQUENCE:0
DESCRIPTION:Join Integral Care for a community conversation during May Men
 tal Health Month. Integral Care’s Community Forum will spotlight the Sta
 te of Mental Health in Central Texas\, sharing data‑driven insights on l
 ocal needs\, access to care\, and how community partners are working toget
 her to strengthen our behavioral health system. May 6 | 11:00 AM-12:30 PM 
 at Integral Care’s Dove Springs Clinic\, 5015 S. IH-35\, 78744.\n\nConta
 ct: communications@integralcare.org
LAST-MODIFIED:20260425T063445Z
LOCATION:Dove Springs Clinic\, 5015 S. IH-35\, Suite 200\, Austin\, TX 787
 44
STATUS:CONFIRMED
URL:https://accessevents.org/events/may-mental-health-month-community-foru
 m-20260506/
END:VEVENT
END:VCALENDAR
