BEGIN:VCALENDAR
VERSION:2.0
PRODID:-//Access Events//accessevents.org//
BEGIN:VEVENT
SUMMARY:& Juliet - ASL Interpreted & Audio Described Performance
DTSTART;TZID=America/New_York:20260816T130000
DTSTAMP:20260425T063449Z
UID:juliet-asl-interpreted-audio-described-performance-20260816@accesseven
 ts.org
SEQUENCE:0
DESCRIPTION:Created by the Emmy®-winning writer from “Schitt’s Creek\
 ,” this hilarious new musical flips the script on the greatest love stor
 y ever told. & JULIET asks: what would happen next if Juliet didn’t end 
 it all over Romeo?\n\nAccessibility: Audio Description\, Wheelchair Access
 ible Venue\, Assistive Listening Devices
LAST-MODIFIED:20260425T063449Z
LOCATION:Belk Theater at Blumenthal Arts Center\, 130 North Tryon St\, Cha
 rlotte\, NC 28202
STATUS:CONFIRMED
URL:https://accessevents.org/events/juliet-asl-interpreted-audio-described
 -performance-20260816/
END:VEVENT
END:VCALENDAR
