BEGIN:VCALENDAR
VERSION:2.0
PRODID:-//Access Events//accessevents.org//
BEGIN:VEVENT
SUMMARY:Hell's Kitchen - ASL Interpreted & Audio Described Performance
DTSTART;TZID=America/New_York:20260913T130000
DTSTAMP:20260425T063449Z
UID:hells-kitchen-asl-interpreted-audio-described-performance-20260913@acc
 essevents.org
SEQUENCE:0
DESCRIPTION:Welcome to HELL’S KITCHEN\, Broadway’s hit musical from Al
 icia Keys-inspired by her life\, her music\, and her community.\n\nAccessi
 bility: Audio Description\, Wheelchair Accessible Venue\, Assistive Listen
 ing Devices
LAST-MODIFIED:20260425T063449Z
LOCATION:Belk Theater at Blumenthal Arts Center\, 130 North Tryon St\, Cha
 rlotte\, NC 28202
STATUS:CONFIRMED
URL:https://accessevents.org/events/hells-kitchen-asl-interpreted-audio-de
 scribed-performance-20260913/
END:VEVENT
END:VCALENDAR
