BEGIN:VCALENDAR
VERSION:2.0
PRODID:-//Access Events//accessevents.org//
BEGIN:VEVENT
SUMMARY:Golden State Valkyries vs Indiana Fever (Deaf Night)
DTSTART;TZID=America/Los_Angeles:20260528T190000
DTSTAMP:20260423T182301Z
UID:golden-state-valkyries-vs-indiana-fever-deaf-night-20260528@accesseven
 ts.org
SEQUENCE:0
DESCRIPTION:San Francisco Deaf Club group outing to watch the Golden State
  Valkyries WNBA game at Chase Center. A social event for the deaf and hard
 -of-hearing community.\n\nAccessibility: Wheelchair Accessible Venue\, Acc
 essible Parking
LAST-MODIFIED:20260423T182301Z
LOCATION:Chase Center\, 1 Warriors Way\, San Francisco\, CA 94158
STATUS:CONFIRMED
URL:https://accessevents.org/events/golden-state-valkyries-vs-indiana-feve
 r-deaf-night-20260528/
END:VEVENT
END:VCALENDAR
