BEGIN:VCALENDAR
VERSION:2.0
PRODID:-//Access Events//accessevents.org//
BEGIN:VEVENT
SUMMARY:General Meeting/Potluck
DTSTART;TZID=America/Chicago:20260509T120000
DTEND;TZID=America/Chicago:20260509T160000
DTSTAMP:20260425T063445Z
UID:general-meetingpotluck-20260509@accessevents.org
SEQUENCE:0
DESCRIPTION:Austin Deaf Club\n\nContact: austindeafclub@gmail.com
LAST-MODIFIED:20260425T063445Z
LOCATION:Austin Deaf Club\, 8818 Cullen Ln\, Austin\, TX 78748
STATUS:CONFIRMED
URL:https://accessevents.org/events/general-meetingpotluck-20260509/
END:VEVENT
END:VCALENDAR
