BEGIN:VCALENDAR
VERSION:2.0
PRODID:-//Access Events//accessevents.org//
BEGIN:VEVENT
SUMMARY:Gallaudet University 156th Commencement
DTSTART;TZID=America/New_York:20260515T090000
DTEND;TZID=America/New_York:20260515T160000
DTSTAMP:20260423T182306Z
UID:gallaudet-university-156th-commencement-20260515@accessevents.org
SEQUENCE:0
DESCRIPTION:Gallaudet University's commencement features Emmy-nominated fi
 lmmaker Nyle DiMarco (Undergraduate Ceremony\, 2-4pm) and global human rig
 hts leader Yohei Sasakawa (Graduate Ceremony\, 9-11am) as speakers and hon
 orary degree recipients. Conducted bilingually in ASL and English.\n\nAcce
 ssibility: ASL Interpretation\, Wheelchair Accessible Venue\, Remote / Vir
 tual Attendance Option
LAST-MODIFIED:20260423T182306Z
LOCATION:Gallaudet University Field House\, 800 Florida Avenue NE\, Washin
 gton\, DC 20002
STATUS:CONFIRMED
URL:https://accessevents.org/events/gallaudet-university-156th-commencemen
 t-20260515/
END:VEVENT
END:VCALENDAR
