BEGIN:VCALENDAR
VERSION:2.0
PRODID:-//Access Events//accessevents.org//
BEGIN:VEVENT
SUMMARY:Five Crowns
DTSTART;TZID=America/Chicago:20260506T100000
DTEND;TZID=America/Chicago:20260506T150000
DTSTAMP:20260425T063445Z
UID:five-crowns-20260506@accessevents.org
SEQUENCE:0
DESCRIPTION:Austin Deaf Club\n\nContact: austindeafclub@gmail.com
LAST-MODIFIED:20260425T063445Z
LOCATION:Austin Deaf Club\, 8818 Cullen Ln\, Austin\, TX 78748
STATUS:CONFIRMED
URL:https://accessevents.org/events/five-crowns-20260506/
END:VEVENT
END:VCALENDAR
