BEGIN:VCALENDAR
VERSION:2.0
PRODID:-//Access Events//accessevents.org//
BEGIN:VEVENT
SUMMARY:Feel the Beat Jam Session and Dance Party SF
DTSTART;TZID=America/Los_Angeles:20260519T130000
DTSTAMP:20260423T182316Z
UID:feel-the-beat-jam-session-and-dance-party-sf-20260519-2@accessevents.o
 rg
SEQUENCE:0
DESCRIPTION:Monthly jam session\, dance party\, and celebration of rhythm 
 for blind and low-vision community members at LightHouse headquarters. Lun
 ch is served before the event.\n\nAccessibility: Wheelchair Accessible Ven
 ue
LAST-MODIFIED:20260423T182316Z
LOCATION:LightHouse for the Blind and Visually Impaired\, 1155 Market Stre
 et\, San Francisco\, CA
STATUS:CONFIRMED
URL:https://accessevents.org/events/feel-the-beat-jam-session-and-dance-pa
 rty-sf-20260519-2/
END:VEVENT
END:VCALENDAR
