BEGIN:VCALENDAR
VERSION:2.0
PRODID:-//Access Events//accessevents.org//
BEGIN:VEVENT
SUMMARY:Edgewater Memory Café
DTSTART;TZID=America/Chicago:20260515T110000
DTEND;TZID=America/Chicago:20260515T130000
DTSTAMP:20260425T063454Z
UID:edgewater-memory-cafe-20260515@accessevents.org
SEQUENCE:0
DESCRIPTION:Our monthly Memory Café offers a comfortable and supportive e
 nvironment for individuals with memory loss and their caregivers. Activiti
 es at this event will vary at each meeting but will include games\, arts a
 nd crafts\, music\, and more. Friends\, family members\, and community all
 ies also are welcome!\n\nAccessibility: Wheelchair Accessible Venue
LAST-MODIFIED:20260425T063454Z
LOCATION:Edgewater Branch\, Chicago Public Library\, 6000 N Broadway\, Chi
 cago\, IL 60660
STATUS:CONFIRMED
URL:https://accessevents.org/events/edgewater-memory-cafe-20260515/
END:VEVENT
END:VCALENDAR
