BEGIN:VCALENDAR
VERSION:2.0
PRODID:-//Access Events//accessevents.org//
BEGIN:VEVENT
SUMMARY:Dracula\, A Comedy of Terrors - ASL Interpreted & Audio Described 
 Performance
DTSTART;TZID=America/New_York:20260712T130000
DTSTAMP:20260425T063449Z
UID:dracula-a-comedy-of-terrors-asl-interpreted-audio-described-performanc
 e-20260712@accessevents.org
SEQUENCE:0
DESCRIPTION:DRACULA\, A COMEDY OF TERRORS is a Bram-new comedy you can rea
 lly sink your teeth into. Filled with clever wordplay and anything-goes po
 p culture references\, it’s a 90-minute\, gender-bending\, quick-changin
 g\, laugh-out-loud reimagining of the gothic classic\, perfect for audienc
 es of all blood types.\n\nAccessibility: Audio Description\, Wheelchair Ac
 cessible Venue\, Assistive Listening Devices
LAST-MODIFIED:20260425T063449Z
LOCATION:Booth Playhouse at Blumenthal Arts Center\, 130 North Tryon St\, 
 Charlotte\, NC 28202
STATUS:CONFIRMED
URL:https://accessevents.org/events/dracula-a-comedy-of-terrors-asl-interp
 reted-audio-described-performance-20260712/
END:VEVENT
END:VCALENDAR
