BEGIN:VCALENDAR
VERSION:2.0
PRODID:-//Access Events//accessevents.org//
BEGIN:VEVENT
SUMMARY:Disability Rights California: Know Your Rights - Support Animals i
 n Housing
DTSTART;TZID=America/Los_Angeles:20260428T170000
DTEND;TZID=America/Los_Angeles:20260428T183000
DTSTAMP:20260426T000647Z
UID:disability-rights-california-know-your-rights-support-animals-in-housi
 ng-20260428@accessevents.org
SEQUENCE:0
DESCRIPTION:Disability Rights California presents a free virtual workshop 
 on assistance animal protections under disability law\, covering the right
 s of people with disabilities to have service animals and emotional suppor
 t animals in housing. The session addresses how to respond to challenges f
 rom landlords and housing providers.\n\nAccessibility: Remote / Virtual At
 tendance Option
LAST-MODIFIED:20260426T000647Z
LOCATION:Online (Zoom)\, San Diego\, CA
STATUS:CONFIRMED
URL:https://accessevents.org/events/disability-rights-california-know-your
 -rights-support-animals-in-housing-20260428/
END:VEVENT
END:VCALENDAR
