BEGIN:VCALENDAR
VERSION:2.0
PRODID:-//Access Events//accessevents.org//
BEGIN:VEVENT
SUMMARY:Disability Awareness Day
DTSTART;TZID=America/Los_Angeles:20261010T100000
DTEND;TZID=America/Los_Angeles:20261010T140000
DTSTAMP:20260425T063458Z
UID:disability-awareness-day-20261010@accessevents.org
SEQUENCE:0
DESCRIPTION:October is National Disability Awareness Month\, and you are i
 nvited to attend the 35th Annual Disability Awareness Day. This free\, fam
 ily-friendly event features a Halloween costume contest with prizes for 1s
 t and 2nd place\, and free lunch will be provided to the first 250 attende
 es.\n\nContact: sncil@sncil.org
LAST-MODIFIED:20260425T063458Z
LOCATION:Sammy Davis Jr. Festival Plaza in Lorenzi Park\, 720 Twin Lakes D
 rive\, Las Vegas\, NV 89107
STATUS:CONFIRMED
URL:https://accessevents.org/events/disability-awareness-day-20261010/
END:VEVENT
END:VCALENDAR
