BEGIN:VCALENDAR
VERSION:2.0
PRODID:-//Access Events//accessevents.org//
BEGIN:VEVENT
SUMMARY:Dear San Francisco (ASL Interpreted Performance)
DTSTART;TZID=America/Los_Angeles:20260702T193000
DTSTAMP:20260423T182301Z
UID:dear-san-francisco-asl-interpreted-performance-20260702@accessevents.o
 rg
SEQUENCE:0
DESCRIPTION:ASL interpreted performance of the immersive 90-minute acrobat
 ic circus show celebrating San Francisco's history and spirit at Club Fuga
 zi.\n\nAccessibility: ASL Interpretation\, Wheelchair Accessible Venue
LAST-MODIFIED:20260423T182301Z
LOCATION:Club Fugazi\, 678 Green Street\, San Francisco\, CA 94133
STATUS:CONFIRMED
URL:https://accessevents.org/events/dear-san-francisco-asl-interpreted-per
 formance-20260702/
END:VEVENT
END:VCALENDAR
