BEGIN:VCALENDAR
VERSION:2.0
PRODID:-//Access Events//accessevents.org//
BEGIN:VEVENT
SUMMARY:BORP San Francisco Adaptive Cycling
DTSTART;TZID=America/Los_Angeles:20260606T100000
DTSTAMP:20260423T182315Z
UID:borp-san-francisco-adaptive-cycling-20260606-2@accessevents.org
SEQUENCE:0
DESCRIPTION:Weekly adaptive cycling program from BORP and San Francisco Re
 creation and Parks in Golden Gate Park. The program offers handcycles\, re
 cumbent trikes\, side-by-side tandems\, and other adaptive cycles for ride
 rs with disabilities and visual impairments.\n\nAccessibility: Wheelchair 
 Accessible Venue\n\nContact: sfcycling@borp.org
LAST-MODIFIED:20260423T182315Z
LOCATION:Music Concourse Bandshell\, 75 Hagiwara Tea Garden Dr\, San Franc
 isco\, CA 94118
STATUS:CONFIRMED
URL:https://accessevents.org/events/borp-san-francisco-adaptive-cycling-20
 260606-2/
END:VEVENT
END:VCALENDAR
